BEGIN:VCALENDAR
VERSION:2.0
PRODID:-//Backstage Bristol Theatre News - ECPv6.15.20//NONSGML v1.0//EN
CALSCALE:GREGORIAN
METHOD:PUBLISH
X-WR-CALNAME:Backstage Bristol Theatre News
X-ORIGINAL-URL:https://backstagebristol.com
X-WR-CALDESC:Events for Backstage Bristol Theatre News
REFRESH-INTERVAL;VALUE=DURATION:PT1H
X-Robots-Tag:noindex
X-PUBLISHED-TTL:PT1H
BEGIN:VTIMEZONE
TZID:Europe/London
BEGIN:DAYLIGHT
TZOFFSETFROM:+0000
TZOFFSETTO:+0100
TZNAME:BST
DTSTART:20240331T010000
END:DAYLIGHT
BEGIN:STANDARD
TZOFFSETFROM:+0100
TZOFFSETTO:+0000
TZNAME:GMT
DTSTART:20241027T010000
END:STANDARD
BEGIN:DAYLIGHT
TZOFFSETFROM:+0000
TZOFFSETTO:+0100
TZNAME:BST
DTSTART:20250330T010000
END:DAYLIGHT
BEGIN:STANDARD
TZOFFSETFROM:+0100
TZOFFSETTO:+0000
TZNAME:GMT
DTSTART:20251026T010000
END:STANDARD
BEGIN:DAYLIGHT
TZOFFSETFROM:+0000
TZOFFSETTO:+0100
TZNAME:BST
DTSTART:20260329T010000
END:DAYLIGHT
BEGIN:STANDARD
TZOFFSETFROM:+0100
TZOFFSETTO:+0000
TZNAME:GMT
DTSTART:20261025T010000
END:STANDARD
END:VTIMEZONE
BEGIN:VEVENT
DTSTART;VALUE=DATE:20251002
DTEND;VALUE=DATE:20251004
DTSTAMP:20260419T225535
CREATED:20250924T085606Z
LAST-MODIFIED:20250924T085807Z
UID:51783-1759363200-1759535999@backstagebristol.com
SUMMARY:Twelfth Night at Ashton Court Mansion
DESCRIPTION:The Oxford Rep Company brings Shakespeare’s Twelfth Night to the Ashton Court Mansion this October. \nA play about the party\, and what’s left when it ends. Set on a strange\, seductive island that never quite sobers up\, this production of Twelfth Night reimagines Illyria as the ruins of a once-glamorous celebration – a place where time blurs\, emotions heighten\, and nothing is quite as it seems. \nLit by purples and deep ocean blues\, the island pulses with the memory of music\, love\, and loss. It’s beautiful\, but it’s starting to rot. As grief crashes into desire\, and disguise becomes dangerous\, Shakespeare’s comedy reveals its darker heart. \nViola washes up not just on foreign shores\, but in a world spinning on fantasy and denial. Orsino is addicted to the idea of love. Olivia is drunk on power and heartbreak. Malvolio is humiliated beyond repair. No one is really seen for who they are – until it’s too late. \nThis is not a glittering romance. This is a world where identity is fragile\, power is performative\, and cruelty is easily mistaken for fun. A place where music is always playing\, but no one can remember the words. A Twelfth Night for anyone who’s ever loved the wrong person\, laughed at the wrong moment\, or stayed too long at a party they didn’t want to leave. \nTwelfth Night is on at Ashton Court Mansion 02 – 03 October 2025 \nTo book 02 October 2025: https://hdfst.uk/e136842\nTo book 03 October 2025: https://hdfst.uk/e136845
URL:https://backstagebristol.com/event/twelfth-night-at-ashton-court-mansion/
LOCATION:Ashton Court Mansion\, BS41 9JN
CATEGORIES:Ashton Court Mansion,Shakespeare
ATTACH;FMTTYPE=image/jpeg:https://backstagebristol.com/wp-content/uploads/2025/09/Twelfth-Night-at-Ashton-Court-Mansion.jpg
END:VEVENT
END:VCALENDAR