BEGIN:VCALENDAR
VERSION:2.0
PRODID:-//Backstage Bristol Theatre News - ECPv6.15.20//NONSGML v1.0//EN
CALSCALE:GREGORIAN
METHOD:PUBLISH
X-WR-CALNAME:Backstage Bristol Theatre News
X-ORIGINAL-URL:https://backstagebristol.com
X-WR-CALDESC:Events for Backstage Bristol Theatre News
REFRESH-INTERVAL;VALUE=DURATION:PT1H
X-Robots-Tag:noindex
X-PUBLISHED-TTL:PT1H
BEGIN:VTIMEZONE
TZID:Europe/London
BEGIN:DAYLIGHT
TZOFFSETFROM:+0000
TZOFFSETTO:+0100
TZNAME:BST
DTSTART:20240331T010000
END:DAYLIGHT
BEGIN:STANDARD
TZOFFSETFROM:+0100
TZOFFSETTO:+0000
TZNAME:GMT
DTSTART:20241027T010000
END:STANDARD
BEGIN:DAYLIGHT
TZOFFSETFROM:+0000
TZOFFSETTO:+0100
TZNAME:BST
DTSTART:20250330T010000
END:DAYLIGHT
BEGIN:STANDARD
TZOFFSETFROM:+0100
TZOFFSETTO:+0000
TZNAME:GMT
DTSTART:20251026T010000
END:STANDARD
BEGIN:DAYLIGHT
TZOFFSETFROM:+0000
TZOFFSETTO:+0100
TZNAME:BST
DTSTART:20260329T010000
END:DAYLIGHT
BEGIN:STANDARD
TZOFFSETFROM:+0100
TZOFFSETTO:+0000
TZNAME:GMT
DTSTART:20261025T010000
END:STANDARD
BEGIN:DAYLIGHT
TZOFFSETFROM:+0000
TZOFFSETTO:+0100
TZNAME:BST
DTSTART:20270328T010000
END:DAYLIGHT
BEGIN:STANDARD
TZOFFSETFROM:+0100
TZOFFSETTO:+0000
TZNAME:GMT
DTSTART:20271031T010000
END:STANDARD
END:VTIMEZONE
BEGIN:VEVENT
DTSTART;VALUE=DATE:20260417
DTEND;VALUE=DATE:20260418
DTSTAMP:20260420T161421
CREATED:20251203T141750Z
LAST-MODIFIED:20251203T141750Z
UID:52819-1776384000-1776470399@backstagebristol.com
SUMMARY:Counterweight by Levantes Dance - Circomedia
DESCRIPTION:Exploring counterweighting through a unique lens; one shaped by the duo’s partnership as a married couple and the nuances of their size and weight difference. \nLevanted Dance\, who brought us ‘The Band’ in 2025\, are delving into how this physical dialogue can inform narrative\, emotion and trust\, while also imagining what other elements (equipment\, props or materials) might enrich and expand the creative process.  \n  \nFeatured Image: Foteini Christofilopoulou
URL:https://backstagebristol.com/event/counterweight-by-levantes-dance-circomedia/
LOCATION:Circomedia\, BS2 8SJ
CATEGORIES:Circomedia
ATTACH;FMTTYPE=image/jpeg:https://backstagebristol.com/wp-content/uploads/2025/12/Counterweight-image-from-The-Band-Circomedia.jpg
END:VEVENT
BEGIN:VEVENT
DTSTART;VALUE=DATE:20260321
DTEND;VALUE=DATE:20260322
DTSTAMP:20260420T161421
CREATED:20251203T141508Z
LAST-MODIFIED:20251203T141508Z
UID:52816-1774051200-1774137599@backstagebristol.com
SUMMARY:Circomedia Gala 2026
DESCRIPTION:We are delighted to invite you to the fundraising event of the season – The Circomedia Gala! \nPrepare for a dazzling evening of circus\, performance and jollity that will entertain and amaze you. Expect aerial artistry\, awe-inspiring juggling\, acrobatics\, and appearances from special guests from across the creative industry. The line-up will include a Cirque du Soleil aerialist and exceptional juggling choreography from a member of the world-renowned Gandini Juggling\, alongside incredible displays of talent from our very own students. More to be announced! \nYou are invited to ‘dress to impress’ as you join us for this sparkling event presented in a cabaret style. We’ll provide a glass of fizz\, some food and table service to make your evening extra special.
URL:https://backstagebristol.com/event/circomedia-gala-2026/
LOCATION:Circomedia\, BS2 8SJ
CATEGORIES:Circomedia
ATTACH;FMTTYPE=image/jpeg:https://backstagebristol.com/wp-content/uploads/2025/12/Circomedia-Gala-2026.jpg
END:VEVENT
BEGIN:VEVENT
DTSTART;VALUE=DATE:20260314
DTEND;VALUE=DATE:20260315
DTSTAMP:20260420T161421
CREATED:20251203T141137Z
LAST-MODIFIED:20251203T141137Z
UID:52813-1773446400-1773532799@backstagebristol.com
SUMMARY:Shed-ache - Circomedia
DESCRIPTION:Presented by aKa Dance Theatre \nshed-ache is a seriously silly dance theatre show that transports little people and their grown ups to a world that sits somewhere between reality and make believe. Two friends (three if you count the shed) get up to all sorts whilst faced with downpours\, lava floors and socks falling out of the sky.  \nshed-ache is about the give and take of friendship\, the power of imagination and the importance to embrace experiences whatever the weather. Be prepared to be blown away by aKa’s brand new family-friendly show which is bright and sunny. With 100% chance of laughter.  For ages 2+ and their families. \nFeatured Image: Jake Grant Photography
URL:https://backstagebristol.com/event/shed-ache-circomedia/
LOCATION:Circomedia\, BS2 8SJ
CATEGORIES:Circomedia
ATTACH;FMTTYPE=image/jpeg:https://backstagebristol.com/wp-content/uploads/2025/12/shed-ache-Circomedia.jpg
END:VEVENT
BEGIN:VEVENT
DTSTART;VALUE=DATE:20260313
DTEND;VALUE=DATE:20260314
DTSTAMP:20260420T161421
CREATED:20251203T140903Z
LAST-MODIFIED:20251203T140903Z
UID:52811-1773360000-1773446399@backstagebristol.com
SUMMARY:Period Drama Presented by Olga Kaleta - Circomedia
DESCRIPTION:Period Drama by Olga Kaleta (with integrated BSL by Sherrie Eugene-Hart) is a surreal\, episodic dark comedy about mental health\, identity & recovery that mixes autobiographical storytelling with circus & bold physicality. A deep dive into the question of wellness through a feminist lens\, via slasher flicks\, bloody knickers & the existential dilemmas of insects. \nDirected by Laura Murphy & Nicole A’Court-Stuart and Produced by Thea Woodrow. \nAge guide: 16+ Frank discussion of sexuality and mental health\, strong language.
URL:https://backstagebristol.com/event/period-drama-presented-by-olga-kaleta-circomedia/
LOCATION:Circomedia\, BS2 8SJ
CATEGORIES:Circomedia
END:VEVENT
BEGIN:VEVENT
DTSTART;VALUE=DATE:20260301
DTEND;VALUE=DATE:20260302
DTSTAMP:20260420T161421
CREATED:20251203T140631Z
LAST-MODIFIED:20251203T140631Z
UID:52807-1772323200-1772409599@backstagebristol.com
SUMMARY:Adult Class Showcase - Circomedia
DESCRIPTION:Circomedia’s Adult Class Showcases are an opportunity for its recreational circus skills students to create\, devise\, and perform a routine in their chosen discipline at our spectacular Portland Square venue. \nAn enjoyable evening of circus skills and a window to our classes.
URL:https://backstagebristol.com/event/adult-class-showcase-circomedia/
LOCATION:Circomedia\, BS2 8SJ
CATEGORIES:Circomedia
ATTACH;FMTTYPE=image/jpeg:https://backstagebristol.com/wp-content/uploads/2025/12/Adult-Class-Showcase-Circomedia.jpg
END:VEVENT
BEGIN:VEVENT
DTSTART;VALUE=DATE:20260214
DTEND;VALUE=DATE:20260215
DTSTAMP:20260420T161421
CREATED:20251203T140038Z
LAST-MODIFIED:20251203T140038Z
UID:52799-1771027200-1771113599@backstagebristol.com
SUMMARY:We’re Going on a Lion Hunt: Early Years Session  - Circomedia
DESCRIPTION:DragonBird Theatre are bringing thisAmerican folk song to life with singing\, theatre and play.  \nWe’ll be hunting through swishy grass\, mud\, trees\, a river full of fish and an exciting snowstorm!  \nAre you up for the adventure? Get your welly boots and binoculars ready and come and join us! \nThis interactive early-years show is perfect for ages 0 – 5 and their grown-ups.
URL:https://backstagebristol.com/event/were-going-on-a-lion-hunt-early-years-session-circomedia/
LOCATION:Circomedia\, BS2 8SJ
CATEGORIES:Circomedia
ATTACH;FMTTYPE=image/jpeg:https://backstagebristol.com/wp-content/uploads/2025/12/We_re-Going-on-a-Lion-Hunt-by-Dragonbird-Theatre-Circomedia.jpg
END:VEVENT
BEGIN:VEVENT
DTSTART;VALUE=DATE:20260131
DTEND;VALUE=DATE:20260201
DTSTAMP:20260420T161421
CREATED:20251203T135733Z
LAST-MODIFIED:20251203T135733Z
UID:52795-1769817600-1769903999@backstagebristol.com
SUMMARY:The Imposters! - Circomedia
DESCRIPTION:Presented by Circomedia and Slapstick Festival \nFive characters on the run from the authorities escape capture\, fall in love\, fight their way through hordes of cops to solve the mystery of how they ended up on the wrong side of law. \nWith a live music score\, The Imposters brings the charm\, daredevil acrobatic stunts\, romance\, action and thrills of the Silent Movie Era live to the stage. Conceived and directed by Moira Hunt. Created and performed by Circomedia’s BA Contemporary Circus & Physical Theatre students.  \nFeatured Image: Harley Strong
URL:https://backstagebristol.com/event/the-imposters-circomedia/
LOCATION:Circomedia\, BS2 8SJ
CATEGORIES:Circomedia
ATTACH;FMTTYPE=image/jpeg:https://backstagebristol.com/wp-content/uploads/2025/12/The-Imposters-Credit-Harley-Strong-Circomedia-scaled.jpg
END:VEVENT
BEGIN:VEVENT
DTSTART;VALUE=DATE:20260123
DTEND;VALUE=DATE:20260124
DTSTAMP:20260420T161421
CREATED:20251203T135314Z
LAST-MODIFIED:20251203T135314Z
UID:52792-1769126400-1769212799@backstagebristol.com
SUMMARY:Balance by Brainfools - Circomedia
DESCRIPTION:“Balance” is the latest original work from Brainfools\, a company of exceptionally talented performers who expertly fuse dynamic circus arts with imaginative storytelling. \nThis is contemporary circus – an art form where breathtaking human skill\, innovative object manipulation\, and physical theatre take centre stage\, offering a fresh and often surprising take on traditional circus. \nFeatured Image: Pablo Herrera
URL:https://backstagebristol.com/event/balance-by-brainfools-circomedia/
LOCATION:Circomedia\, BS2 8SJ
CATEGORIES:Circomedia
ATTACH;FMTTYPE=image/jpeg:https://backstagebristol.com/wp-content/uploads/2025/12/Balance-by-Brainfools-Circomedia-scaled.jpg
END:VEVENT
BEGIN:VEVENT
DTSTART;TZID=Europe/London:20260117T100000
DTEND;TZID=Europe/London:20260117T140000
DTSTAMP:20260420T161421
CREATED:20251203T134919Z
LAST-MODIFIED:20251203T135001Z
UID:52788-1768644000-1768658400@backstagebristol.com
SUMMARY:Community Open Doors Event - Circomedia
DESCRIPTION:Drop into Circomeda at St. Paul’s Church for a free family event this January \nChildren and young people can try their hand at a range of circus skills like aerial hoop\, trapeze\, juggling and tightwire in Youth Circus Have-a-Go sessions. \nIncludes African Drumming and Dance Workshops with St. Paul’s creative and dance and drumming pro\, Rubba. \nEveryone is welcome – drop-in throughout the day and get involved.
URL:https://backstagebristol.com/event/community-open-doors-event-circomedia-2/
LOCATION:Circomedia\, BS2 8SJ
CATEGORIES:Circomedia
ATTACH;FMTTYPE=image/jpeg:https://backstagebristol.com/wp-content/uploads/2025/12/Circomedia-Community-Open-Doors-Event-Rubba-Drumming.jpg
END:VEVENT
BEGIN:VEVENT
DTSTART;VALUE=DATE:20251220
DTEND;VALUE=DATE:20251223
DTSTAMP:20260420T161421
CREATED:20250804T160329Z
LAST-MODIFIED:20250804T173011Z
UID:50972-1766188800-1766447999@backstagebristol.com
SUMMARY:This and That: A Winter Special - Circomedia
DESCRIPTION:A new collaboration between Circomedia and Tit for Tat\, who have rounded up an entourage of some of Bristol’s most exciting and innovative live performers; creating an evening of daring entertainment and bold new circus.
URL:https://backstagebristol.com/event/this-and-that-a-winter-special-circomedia/
LOCATION:Circomedia\, BS2 8SJ
CATEGORIES:Circomedia,Circus
ATTACH;FMTTYPE=image/jpeg:https://backstagebristol.com/wp-content/uploads/2025/08/This-That-Winter-Special-by-Tit-for-Tat.jpg
END:VEVENT
BEGIN:VEVENT
DTSTART;VALUE=DATE:20251214
DTEND;VALUE=DATE:20251215
DTSTAMP:20260420T161421
CREATED:20250804T160032Z
LAST-MODIFIED:20250804T173018Z
UID:50969-1765670400-1765756799@backstagebristol.com
SUMMARY:Fish Boy - Circomedia
DESCRIPTION:Follow young Tommy Minton on an unforgettable adventure as he goes on a hunt to discover where his best friend ‘fish’ has gone. With touches of humour\, fun and surprise this dance adventure celebrates friendship\, uncovers what’s polluting our rivers and demonstrates the power of never giving up! \nPresented by 2Faced Dance \nCheck out Circomedia’s family Early Bird offer to receive 10% off your tickets before 01 October. \nFeatured Image: Kie Cummings
URL:https://backstagebristol.com/event/fish-boy-circomedia/
LOCATION:Circomedia\, BS2 8SJ
CATEGORIES:Circomedia,Circus
ATTACH;FMTTYPE=image/jpeg:https://backstagebristol.com/wp-content/uploads/2025/08/Fish-Boy-Circomedia-Bristol.jpg
END:VEVENT
BEGIN:VEVENT
DTSTART;VALUE=DATE:20251213
DTEND;VALUE=DATE:20251214
DTSTAMP:20260420T161421
CREATED:20250804T155701Z
LAST-MODIFIED:20250804T173025Z
UID:50967-1765584000-1765670399@backstagebristol.com
SUMMARY:Circomedia’s Winter Makers’ Market
DESCRIPTION:Applications for stallholders are now open at circomedia.com/winter-makers-market \nHead to Circomedia’s first Makers’ Market and enjoy a joyful day out with seasonal music\, warm drinks\, and plenty of festive cheer as you support independent artists\, makers\, and designers from across the city.
URL:https://backstagebristol.com/event/circomedias-winter-makers-market/
LOCATION:Circomedia\, BS2 8SJ
CATEGORIES:Circomedia,Circus
ATTACH;FMTTYPE=image/jpeg:https://backstagebristol.com/wp-content/uploads/2025/02/Circomedia.jpg
END:VEVENT
BEGIN:VEVENT
DTSTART;VALUE=DATE:20251129
DTEND;VALUE=DATE:20251130
DTSTAMP:20260420T161421
CREATED:20250804T155418Z
LAST-MODIFIED:20250804T173032Z
UID:50964-1764374400-1764460799@backstagebristol.com
SUMMARY:No Reason: Short Film Festival - Circomedia
DESCRIPTION:No Reason is more than just a short film festival. It’s a vibrant platform for anyone who wants to let their creativity loose. Expect short films\, live performances\, art\, music\, and an unforgettable atmosphere where everyone is welcome and everything is possible.
URL:https://backstagebristol.com/event/no-reason-short-film-festival-circomedia/
LOCATION:Circomedia\, BS2 8SJ
CATEGORIES:Circomedia,Circus
ATTACH;FMTTYPE=image/jpeg:https://backstagebristol.com/wp-content/uploads/2025/02/Circomedia.jpg
END:VEVENT
BEGIN:VEVENT
DTSTART;VALUE=DATE:20251128
DTEND;VALUE=DATE:20251129
DTSTAMP:20260420T161421
CREATED:20250804T155119Z
LAST-MODIFIED:20250804T173039Z
UID:50961-1764288000-1764374399@backstagebristol.com
SUMMARY:BTEC Winter Cabaret - Circomedia
DESCRIPTION:Circomedia’s two-year BTEC course is the only one of its kind\, and they are delighted to present this cabaret-style show\, which showcases the disciplines and performance skills their students have been working on so far in their Autumn term.
URL:https://backstagebristol.com/event/btec-winter-cabaret-circomedia/
LOCATION:Circomedia\, BS2 8SJ
CATEGORIES:Circomedia,Circus
ATTACH;FMTTYPE=image/jpeg:https://backstagebristol.com/wp-content/uploads/2025/08/BTEC-Winter-Cabaret-Circomedia-Bristol.jpg
END:VEVENT
BEGIN:VEVENT
DTSTART;VALUE=DATE:20251120
DTEND;VALUE=DATE:20251123
DTSTAMP:20260420T161421
CREATED:20250804T154827Z
LAST-MODIFIED:20250804T173047Z
UID:50958-1763596800-1763855999@backstagebristol.com
SUMMARY:The Decadent Rabbit Cabaret - Circomedia
DESCRIPTION:The Rabbit’s in town again! With the highest quality cabaret featuring comedy\, burlesque\, circus and live song\, the latest Decadent Rabbit ensemble brings cabaret to amuse and entice\, into their burrow of delights!
URL:https://backstagebristol.com/event/the-decadent-rabbit-cabaret-circomedia/
LOCATION:Circomedia\, BS2 8SJ
CATEGORIES:Circomedia,Circus
ATTACH;FMTTYPE=image/jpeg:https://backstagebristol.com/wp-content/uploads/2025/08/The-Decadent-Rabbit-Cabaret.jpg
END:VEVENT
BEGIN:VEVENT
DTSTART;VALUE=DATE:20251115
DTEND;VALUE=DATE:20251117
DTSTAMP:20260420T161421
CREATED:20250804T154454Z
LAST-MODIFIED:20250804T173054Z
UID:50953-1763164800-1763337599@backstagebristol.com
SUMMARY:Well Done\, Mummy Penguin - Circomedia
DESCRIPTION:Brought to you by Can’t Sit Still Well Done\, Mummy Penguin features daring acrobatics\, integrated sign language and humour. A perfect wintery treat for everyone aged 3 and up. \nCheck out Circomedia’s family Early Bird offer to receive 10% off your tickets before 1st October. \nFeatured Image: Robert Day
URL:https://backstagebristol.com/event/well-done-mummy-penguin-circomedia/
LOCATION:Circomedia\, BS2 8SJ
CATEGORIES:Circomedia,Circus
ATTACH;FMTTYPE=image/jpeg:https://backstagebristol.com/wp-content/uploads/2025/08/Well-Done-Mummy-Penguin.jpg
END:VEVENT
BEGIN:VEVENT
DTSTART;VALUE=DATE:20251029
DTEND;VALUE=DATE:20251031
DTSTAMP:20260420T161421
CREATED:20250804T154059Z
LAST-MODIFIED:20250804T173103Z
UID:50949-1761696000-1761868799@backstagebristol.com
SUMMARY:Circus City: Rollercoaster - Circomedia
DESCRIPTION:Ultra-modern pop-punk juggling and cutting-edge tricks inspired by corkscrews\, adrenalin\, and high-tech seatbelts. \nBy Wes Peden \nFeatured Image: Florence Schroeder
URL:https://backstagebristol.com/event/circus-city-rollercoaster-circomedia/
LOCATION:Circomedia\, BS2 8SJ
CATEGORIES:Circomedia,Circus
ATTACH;FMTTYPE=image/png:https://backstagebristol.com/wp-content/uploads/2025/08/Circus-City-Rollercoaster.png
END:VEVENT
BEGIN:VEVENT
DTSTART;VALUE=DATE:20251024
DTEND;VALUE=DATE:20251026
DTSTAMP:20260420T161421
CREATED:20250804T153734Z
LAST-MODIFIED:20250804T173109Z
UID:50946-1761264000-1761436799@backstagebristol.com
SUMMARY:Circus City: How A Spiral Works - Circomedia
DESCRIPTION:A circus performance\, blending contemporary dance\, hair hanging\, aerial rope\, and Baltic folk. \nFeatured Image: Zane Krūmiņa
URL:https://backstagebristol.com/event/circus-city-how-a-spiral-works-circomedia/
LOCATION:Circomedia\, BS2 8SJ
CATEGORIES:Circomedia,Circus
ATTACH;FMTTYPE=image/png:https://backstagebristol.com/wp-content/uploads/2025/08/How-a-Spiral-Works.png
END:VEVENT
BEGIN:VEVENT
DTSTART;VALUE=DATE:20251023
DTEND;VALUE=DATE:20251024
DTSTAMP:20260420T161421
CREATED:20250804T153408Z
LAST-MODIFIED:20250804T173124Z
UID:50943-1761177600-1761263999@backstagebristol.com
SUMMARY:VOLT Circus Scratch Night - Circomedia
DESCRIPTION:Circomedia’s regional circus scratch night\, creating an opportunity for circus artists to share work-in-progress pieces in a professional environment. \n  \nFeatured Image: Nuss Nuss by Fleur Hall
URL:https://backstagebristol.com/event/volt-circus-scratch-night-circomedia/
LOCATION:Circomedia\, BS2 8SJ
CATEGORIES:Circomedia,Circus
ATTACH;FMTTYPE=image/png:https://backstagebristol.com/wp-content/uploads/2025/08/VOLT-Circus-Scratch-Night.png
END:VEVENT
BEGIN:VEVENT
DTSTART;VALUE=DATE:20251017
DTEND;VALUE=DATE:20251019
DTSTAMP:20260420T161421
CREATED:20250804T153041Z
LAST-MODIFIED:20250804T173205Z
UID:50940-1760659200-1760831999@backstagebristol.com
SUMMARY:Circus City: Delusional – I killed a Man - Circomedia
DESCRIPTION:A daring circus solo show that merges raw physicality\, movement and a deeply personal exploration of identity and transformation.
URL:https://backstagebristol.com/event/circus-city-delusional-i-killed-a-man-circomedia/
LOCATION:Circomedia\, BS2 8SJ
CATEGORIES:Circomedia,Circus
ATTACH;FMTTYPE=image/jpeg:https://backstagebristol.com/wp-content/uploads/2025/08/DELUSIONAL-I-Killed-a-Man-by-Diana-Salles.jpg
END:VEVENT
BEGIN:VEVENT
DTSTART;VALUE=DATE:20251010
DTEND;VALUE=DATE:20251011
DTSTAMP:20260420T161421
CREATED:20250804T152653Z
LAST-MODIFIED:20250804T173213Z
UID:50937-1760054400-1760140799@backstagebristol.com
SUMMARY:Circus City: Cocoon - Circomedia
DESCRIPTION:A daring aerial theatre show celebrating resilience and unapologetic joy through humour\, pop culture and hairdryers. \n  \nFeatured Image: Henoc Bayolekama
URL:https://backstagebristol.com/event/circus-city-cocoon-circomedia/
LOCATION:Circomedia\, BS2 8SJ
CATEGORIES:Circomedia,Circus
ATTACH;FMTTYPE=image/jpeg:https://backstagebristol.com/wp-content/uploads/2025/08/Circus-City-Cocoon-Circomedia.jpg
END:VEVENT
BEGIN:VEVENT
DTSTART;VALUE=DATE:20250920
DTEND;VALUE=DATE:20250921
DTSTAMP:20260420T161421
CREATED:20250804T152342Z
LAST-MODIFIED:20250804T173234Z
UID:50934-1758326400-1758412799@backstagebristol.com
SUMMARY:Community Open Doors Event - Circomedia
DESCRIPTION:Come along to this free\, family-friendly day in Circomedia’s city-centre home at St. Paul’s Church and enjoy a range of interactive activities\, from youth circus activities to African drumming and dance workshops and more.
URL:https://backstagebristol.com/event/community-open-doors-event-circomedia/
LOCATION:Circomedia\, BS2 8SJ
CATEGORIES:Circomedia,Circus
ATTACH;FMTTYPE=image/jpeg:https://backstagebristol.com/wp-content/uploads/2025/08/Circomedia-Community-Open-Doors-Event.jpg
END:VEVENT
BEGIN:VEVENT
DTSTART;VALUE=DATE:20250919
DTEND;VALUE=DATE:20250920
DTSTAMP:20260420T161421
CREATED:20250804T150923Z
LAST-MODIFIED:20250804T173239Z
UID:50930-1758240000-1758326399@backstagebristol.com
SUMMARY:Autumn Ceilidh Night - Circomedia
DESCRIPTION:Whether you’re an expert ceilidh dancer or never been before\, this night is for everyone. Each dance is explained\, and it’s all about having fun. Come along and get into the spirit of the event!
URL:https://backstagebristol.com/event/autumn-ceilidh-night-circomedia/
LOCATION:Circomedia\, BS2 8SJ
CATEGORIES:Circomedia,Circus
ATTACH;FMTTYPE=image/jpeg:https://backstagebristol.com/wp-content/uploads/2025/08/Autumn-Ceilidh-Night-Circomedia.jpg
END:VEVENT
BEGIN:VEVENT
DTSTART;VALUE=DATE:20250905
DTEND;VALUE=DATE:20250906
DTSTAMP:20260420T161421
CREATED:20250804T150551Z
LAST-MODIFIED:20250804T172822Z
UID:50927-1757030400-1757116799@backstagebristol.com
SUMMARY:Cuculi Presents: Âellin / Anna Ling - Circomedia
DESCRIPTION:Local independent label Cuculi Records presents a double header from two of the South West’s most vibrant and sophisticated alt-folk artists: Âellin (Bristol) and Anna Ling (Totnes).
URL:https://backstagebristol.com/event/cuculi-presents-aellin-anna-ling-circomedia/
LOCATION:Circomedia\, BS2 8SJ
CATEGORIES:Circomedia,Circus
ATTACH;FMTTYPE=image/jpeg:https://backstagebristol.com/wp-content/uploads/2025/08/Cuculi-Records-Presents-AELLIN-Circomedia-scaled.jpg
END:VEVENT
BEGIN:VEVENT
DTSTART;VALUE=DATE:20250501
DTEND;VALUE=DATE:20250504
DTSTAMP:20260420T161421
CREATED:20250203T161715Z
LAST-MODIFIED:20250203T161715Z
UID:49034-1746057600-1746316799@backstagebristol.com
SUMMARY:Circomedia BA Final Major Projects Shows
DESCRIPTION:Witness the next generation of circus talent at Circomedia’s mini-festival of new works\, presented by their graduating Circus and Physical Theatre students. With a different line up each night including aerial skills\, acrobatics\, juggling and more\, come along and support their 3rd year class as they showcase the world-class skills they have developed through their time at the UK’s first circus academy!
URL:https://backstagebristol.com/event/circomedia-ba-final-major-projects-shows/
LOCATION:Circomedia\, BS2 8SJ
CATEGORIES:Circomedia
ATTACH;FMTTYPE=image/jpeg:https://backstagebristol.com/wp-content/uploads/2025/02/Circomedia-BA-Final-Major-Projects-Image-Option-Aerial-Rope.jpg
END:VEVENT
BEGIN:VEVENT
DTSTART;VALUE=DATE:20250328
DTEND;VALUE=DATE:20250331
DTSTAMP:20260420T161421
CREATED:20250203T165220Z
LAST-MODIFIED:20250203T165220Z
UID:49045-1743120000-1743379199@backstagebristol.com
SUMMARY:Circomedia - Circus as Drawing Symposium 
DESCRIPTION:Discover the fusion of circus and visual art at the Circus as Drawing Symposium\, a three-day collaborative event for circus and visual artists to explore movement and mark-making\, culminating in a shared performance and exhibition.  \n  \nSYMPOSIUM \nDates & Times: Friday 28 – Sunday 30 March\, 10:00am – 4:00pm\nTickets: £210 one-off payment for the full three day symposium  \nLIFE DRAWING \nDates & Times: Friday 28\, Saturday 29 & Sunday 30 March\, 11am – 4pm\nTickets: £25 per-day for life drawing-only option 
URL:https://backstagebristol.com/event/circomedia-circus-as-drawing-symposium/
LOCATION:Kingswood Estate\, BS15 8DB
CATEGORIES:Circomedia
ATTACH;FMTTYPE=image/jpeg:https://backstagebristol.com/wp-content/uploads/2025/02/Circomedia.jpg
END:VEVENT
BEGIN:VEVENT
DTSTART;VALUE=DATE:20250327
DTEND;VALUE=DATE:20250328
DTSTAMP:20260420T161421
CREATED:20250203T160723Z
LAST-MODIFIED:20250203T160723Z
UID:49031-1743033600-1743119999@backstagebristol.com
SUMMARY:Circomedia BTEC Spring Show 
DESCRIPTION:Join Circomedia’s first-year BTEC students as they showcase their circus skills in newly devised Theatre in Education pieces\, created for primary school audiences and inspired by stimuli of their choice.  \nFeatured Image: Circomedia
URL:https://backstagebristol.com/event/circomedia-btec-spring-show/
LOCATION:Circomedia\, BS2 8SJ
CATEGORIES:Circomedia
ATTACH;FMTTYPE=image/jpeg:https://backstagebristol.com/wp-content/uploads/2025/02/Circomedia-BTEC-Spring-Show-Aerial-Silks.jpg
END:VEVENT
BEGIN:VEVENT
DTSTART;VALUE=DATE:20250320
DTEND;VALUE=DATE:20250321
DTSTAMP:20260420T161421
CREATED:20250203T164806Z
LAST-MODIFIED:20250203T164806Z
UID:49043-1742428800-1742515199@backstagebristol.com
SUMMARY:Circomedia - Circus Pop Up Shows
DESCRIPTION:Enjoy two evenings of exceptional circus performances\, featuring renowned and emerging artists from the Bristol and UK circus scene. Celebrate the art of circus in Circomedia’s stunning city centre venue. Applications to perform in this programme will close on Monday 7 February.
URL:https://backstagebristol.com/event/circomedia-circus-pop-up-shows-2/
LOCATION:Circomedia\, BS2 8SJ
CATEGORIES:Circomedia
ATTACH;FMTTYPE=image/jpeg:https://backstagebristol.com/wp-content/uploads/2025/02/Circomedia.jpg
END:VEVENT
BEGIN:VEVENT
DTSTART;VALUE=DATE:20250313
DTEND;VALUE=DATE:20250314
DTSTAMP:20260420T161421
CREATED:20250203T164604Z
LAST-MODIFIED:20250203T164604Z
UID:49041-1741824000-1741910399@backstagebristol.com
SUMMARY:Circomedia - Circus Pop Up Shows 
DESCRIPTION:Circus Pop Up Shows  \nEnjoy two evenings of exceptional circus performances\, featuring renowned and emerging artists from the Bristol and UK circus scene. Celebrate the art of circus in Circomedia’s stunning city centre venue. Applications to perform in this programme will close on Monday 7 February.
URL:https://backstagebristol.com/event/circomedia-circus-pop-up-shows/
LOCATION:Circomedia\, BS2 8SJ
CATEGORIES:Circomedia
ATTACH;FMTTYPE=image/jpeg:https://backstagebristol.com/wp-content/uploads/2025/02/Circomedia.jpg
END:VEVENT
BEGIN:VEVENT
DTSTART;VALUE=DATE:20250308
DTEND;VALUE=DATE:20250309
DTSTAMP:20260420T161421
CREATED:20250203T160110Z
LAST-MODIFIED:20250203T160110Z
UID:49028-1741392000-1741478399@backstagebristol.com
SUMMARY:Circomedia Community Open Doors - Free Event
DESCRIPTION:Experience the magic of circus and community at Circomedia’s next popular free Community Open Doors Event\, featuring hands-on workshops in circus skills\, African drumming\, and more\, curated by local creative Norman ‘Rubba’ Stephenson. Perfect for ages 5 – 12 and their families.
URL:https://backstagebristol.com/event/circomedia-community-open-doors-free-event/
LOCATION:Circomedia\, BS2 8SJ
CATEGORIES:Circomedia
ATTACH;FMTTYPE=image/jpeg:https://backstagebristol.com/wp-content/uploads/2025/02/Community-Open-Doors-2024-trapeze-e1738673993250.jpg
END:VEVENT
END:VCALENDAR