BEGIN:VCALENDAR
VERSION:2.0
PRODID:-//Backstage Bristol Theatre News - ECPv6.15.20//NONSGML v1.0//EN
CALSCALE:GREGORIAN
METHOD:PUBLISH
X-WR-CALNAME:Backstage Bristol Theatre News
X-ORIGINAL-URL:https://backstagebristol.com
X-WR-CALDESC:Events for Backstage Bristol Theatre News
REFRESH-INTERVAL;VALUE=DURATION:PT1H
X-Robots-Tag:noindex
X-PUBLISHED-TTL:PT1H
BEGIN:VTIMEZONE
TZID:Europe/London
BEGIN:DAYLIGHT
TZOFFSETFROM:+0000
TZOFFSETTO:+0100
TZNAME:BST
DTSTART:20250330T010000
END:DAYLIGHT
BEGIN:STANDARD
TZOFFSETFROM:+0100
TZOFFSETTO:+0000
TZNAME:GMT
DTSTART:20251026T010000
END:STANDARD
BEGIN:DAYLIGHT
TZOFFSETFROM:+0000
TZOFFSETTO:+0100
TZNAME:BST
DTSTART:20260329T010000
END:DAYLIGHT
BEGIN:STANDARD
TZOFFSETFROM:+0100
TZOFFSETTO:+0000
TZNAME:GMT
DTSTART:20261025T010000
END:STANDARD
BEGIN:DAYLIGHT
TZOFFSETFROM:+0000
TZOFFSETTO:+0100
TZNAME:BST
DTSTART:20270328T010000
END:DAYLIGHT
BEGIN:STANDARD
TZOFFSETFROM:+0100
TZOFFSETTO:+0000
TZNAME:GMT
DTSTART:20271031T010000
END:STANDARD
END:VTIMEZONE
BEGIN:VEVENT
DTSTART;VALUE=DATE:20260430
DTEND;VALUE=DATE:20260503
DTSTAMP:20260420T144601
CREATED:20251203T142020Z
LAST-MODIFIED:20251203T142020Z
UID:52823-1777507200-1777766399@backstagebristol.com
SUMMARY:Final Major Projects 2026 - Circomedia
DESCRIPTION:Join us over three nights to experience a mini-festival of new works presented by the graduating students from Circomedia’s degree programme! \nWith a selection of different acts each night\, this is a fantastic opportunity to support and celebrate the circus artists of the future as they showcase their circus and performance skills.
URL:https://backstagebristol.com/event/final-major-projects-2026-circomedia/
LOCATION:Circomedia\, BS2 8SJ
CATEGORIES:Circomedia
ATTACH;FMTTYPE=image/jpeg:https://backstagebristol.com/wp-content/uploads/2025/12/Final-Major-Projects-by-Circomedia.jpg
END:VEVENT
END:VCALENDAR