BEGIN:VCALENDAR
VERSION:2.0
PRODID:-//Backstage Bristol Theatre News - ECPv6.15.20//NONSGML v1.0//EN
CALSCALE:GREGORIAN
METHOD:PUBLISH
X-ORIGINAL-URL:https://backstagebristol.com
X-WR-CALDESC:Events for Backstage Bristol Theatre News
REFRESH-INTERVAL;VALUE=DURATION:PT1H
X-Robots-Tag:noindex
X-PUBLISHED-TTL:PT1H
BEGIN:VTIMEZONE
TZID:Europe/London
BEGIN:DAYLIGHT
TZOFFSETFROM:+0000
TZOFFSETTO:+0100
TZNAME:BST
DTSTART:20240331T010000
END:DAYLIGHT
BEGIN:STANDARD
TZOFFSETFROM:+0100
TZOFFSETTO:+0000
TZNAME:GMT
DTSTART:20241027T010000
END:STANDARD
BEGIN:DAYLIGHT
TZOFFSETFROM:+0000
TZOFFSETTO:+0100
TZNAME:BST
DTSTART:20250330T010000
END:DAYLIGHT
BEGIN:STANDARD
TZOFFSETFROM:+0100
TZOFFSETTO:+0000
TZNAME:GMT
DTSTART:20251026T010000
END:STANDARD
BEGIN:DAYLIGHT
TZOFFSETFROM:+0000
TZOFFSETTO:+0100
TZNAME:BST
DTSTART:20260329T010000
END:DAYLIGHT
BEGIN:STANDARD
TZOFFSETFROM:+0100
TZOFFSETTO:+0000
TZNAME:GMT
DTSTART:20261025T010000
END:STANDARD
END:VTIMEZONE
BEGIN:VEVENT
DTSTART;VALUE=DATE:20251202
DTEND;VALUE=DATE:20251203
DTSTAMP:20260422T213636
CREATED:20250825T170140Z
LAST-MODIFIED:20250825T170140Z
UID:51261-1764633600-1764719999@backstagebristol.com
SUMMARY:Milo Edwards: How Revolting! Sorry To Offend at The Gaffe Comedy Club
DESCRIPTION:Milo Edwards will be in Bristol this December with his show How Revolting! Sorry to Offend. \nHe’s noticed that some people seem to think that he’s posh. But he isn’t posh\, unless you’re asking his brother. Milo is from Essex. He once got a temporary tattoo on his arse.In How Revolting! Sorry to Offend\, Milo is answering the salient questions of modern British life\, such as: Who are the posh and what are they up to? Why can’t Danny Dyer and Boris Johnson fulfil their true destinies? And\, under what circumstances can a man reasonably be expected to learn Dutch? \nAgainst a backdrop of a Britain in an advanced state of decay\, a country where the post might arrive every other day and where visiting your dentist involves a day trip and sandwiches\, Milo asks: it’s a revolting state of affairs but are we really offended? \nFind out why spite might be the answer\, why owning an air fryer is one of the few discernible social identities left and why the Falklands War was the last and truest expression of Britishness. \nFeatured Image: Joshua Peroti
URL:https://backstagebristol.com/event/milo-edwards-how-revolting-sorry-to-offend-at-the-gaffe-comedy-club/
LOCATION:The Gaffe Comedy Club\, BS1 2BD
CATEGORIES:Comedy
ATTACH;FMTTYPE=image/jpeg:https://backstagebristol.com/wp-content/uploads/2025/08/Milo-Edwards-How-Revolting-Sorry-To-Offend.jpeg
END:VEVENT
END:VCALENDAR