BEGIN:VCALENDAR
VERSION:2.0
PRODID:-//Backstage Bristol Theatre News - ECPv6.15.20//NONSGML v1.0//EN
CALSCALE:GREGORIAN
METHOD:PUBLISH
X-ORIGINAL-URL:https://backstagebristol.com
X-WR-CALDESC:Events for Backstage Bristol Theatre News
REFRESH-INTERVAL;VALUE=DURATION:PT1H
X-Robots-Tag:noindex
X-PUBLISHED-TTL:PT1H
BEGIN:VTIMEZONE
TZID:Europe/London
BEGIN:DAYLIGHT
TZOFFSETFROM:+0000
TZOFFSETTO:+0100
TZNAME:BST
DTSTART:20250330T010000
END:DAYLIGHT
BEGIN:STANDARD
TZOFFSETFROM:+0100
TZOFFSETTO:+0000
TZNAME:GMT
DTSTART:20251026T010000
END:STANDARD
BEGIN:DAYLIGHT
TZOFFSETFROM:+0000
TZOFFSETTO:+0100
TZNAME:BST
DTSTART:20260329T010000
END:DAYLIGHT
BEGIN:STANDARD
TZOFFSETFROM:+0100
TZOFFSETTO:+0000
TZNAME:GMT
DTSTART:20261025T010000
END:STANDARD
BEGIN:DAYLIGHT
TZOFFSETFROM:+0000
TZOFFSETTO:+0100
TZNAME:BST
DTSTART:20270328T010000
END:DAYLIGHT
BEGIN:STANDARD
TZOFFSETFROM:+0100
TZOFFSETTO:+0000
TZNAME:GMT
DTSTART:20271031T010000
END:STANDARD
END:VTIMEZONE
BEGIN:VEVENT
DTSTART;VALUE=DATE:20260402
DTEND;VALUE=DATE:20260404
DTSTAMP:20260419T142714
CREATED:20260227T105434Z
LAST-MODIFIED:20260227T105434Z
UID:54035-1775088000-1775260799@backstagebristol.com
SUMMARY:The Children of Mike - Cube Microplex
DESCRIPTION:An original play by Worms Theatre Company\, with an opening act by Pete the Temp. \nA story of the estranged human severed from ancient kinship. A collection of mischievous tales in which the more-than-human-world offers counsel to the lost human. \nThe story asks: Whose world is this? Do you own the pavement beneath your feet? Do you see the invisible faces on the street? We live in boxes and walk in lines. When was the last time you wept to the mountain or cursed the bog? \nThe human used to move with grace and humility. The human used to seek council and responsibility. What must we do to save our lonely souls\, to save our lonely soils\, to save our lonely rock? \nWorms Theatre Company seeks to affect social change through collective creativity. We are not-for-profit\, which means every penny wriggles straight back into our community initiatives — we have raised money for charitable causes (like £1500 for Planetary Repairs) and ran a two year program at Adventure Playground\, Felix Road offering weekly theatre and creative opportunities for young people. \nPete the Temp – poet\, comic and author\, whose work combines spoken word\, human-beatbox and experimental sound poetry. \nThere shall be badgers\, pigeons\, microbes\, religion. There shall be dancing and deities. \n\nTicket link 02/04/2026: https://www.headfirstbristol.co.uk/whats-on/the-cube/thu-2-apr-the-children-of-mike-148652#e148652\n\nTicket Link: 03/04/2026: https://www.headfirstbristol.co.uk/whats-on/the-cube/fri-3-apr-the-children-of-mike-148653#e148653
URL:https://backstagebristol.com/event/the-children-of-mike-cube-microplex/
LOCATION:Cube Microplex\, Dove Street South\, BS2 8NQ
CATEGORIES:Cube Microplex
ATTACH;FMTTYPE=image/jpeg:https://backstagebristol.com/wp-content/uploads/2026/02/The-Children-of-Mike-Cube-Microplex.jpg
END:VEVENT
END:VCALENDAR