BEGIN:VCALENDAR
VERSION:2.0
PRODID:-//Backstage Bristol Theatre News - ECPv6.15.20//NONSGML v1.0//EN
CALSCALE:GREGORIAN
METHOD:PUBLISH
X-ORIGINAL-URL:https://backstagebristol.com
X-WR-CALDESC:Events for Backstage Bristol Theatre News
REFRESH-INTERVAL;VALUE=DURATION:PT1H
X-Robots-Tag:noindex
X-PUBLISHED-TTL:PT1H
BEGIN:VTIMEZONE
TZID:Europe/London
BEGIN:DAYLIGHT
TZOFFSETFROM:+0000
TZOFFSETTO:+0100
TZNAME:BST
DTSTART:20250330T010000
END:DAYLIGHT
BEGIN:STANDARD
TZOFFSETFROM:+0100
TZOFFSETTO:+0000
TZNAME:GMT
DTSTART:20251026T010000
END:STANDARD
BEGIN:DAYLIGHT
TZOFFSETFROM:+0000
TZOFFSETTO:+0100
TZNAME:BST
DTSTART:20260329T010000
END:DAYLIGHT
BEGIN:STANDARD
TZOFFSETFROM:+0100
TZOFFSETTO:+0000
TZNAME:GMT
DTSTART:20261025T010000
END:STANDARD
BEGIN:DAYLIGHT
TZOFFSETFROM:+0000
TZOFFSETTO:+0100
TZNAME:BST
DTSTART:20270328T010000
END:DAYLIGHT
BEGIN:STANDARD
TZOFFSETFROM:+0100
TZOFFSETTO:+0000
TZNAME:GMT
DTSTART:20271031T010000
END:STANDARD
END:VTIMEZONE
BEGIN:VEVENT
DTSTART;VALUE=DATE:20260501
DTEND;VALUE=DATE:20260511
DTSTAMP:20260419T054957
CREATED:20260317T105533Z
LAST-MODIFIED:20260317T105533Z
UID:54283-1777593600-1778457599@backstagebristol.com
SUMMARY:The Diverse Artists Network (DAN) - DIASPORA!
DESCRIPTION:The Diverse Artists Network (DAN) brings DIASPORA! back to Bristol once again. \nThe not-for-profit festival takes place in venues across Bristol and the South West region this May. \nThe even celebrates cultural diversity\, community and creativity from international communities. \nEvents will include everything from films and exhibitions to talks\, performances\, theatre and online events. \n 
URL:https://backstagebristol.com/event/the-diverse-artists-network-dan-diaspora/
LOCATION:Festival
CATEGORIES:Festival
ATTACH;FMTTYPE=image/png:https://backstagebristol.com/wp-content/uploads/2026/03/Diaspora-Festival-Bristol-2026.png
END:VEVENT
END:VCALENDAR