BEGIN:VCALENDAR
VERSION:2.0
PRODID:-//Backstage Bristol Theatre News - ECPv6.15.20//NONSGML v1.0//EN
CALSCALE:GREGORIAN
METHOD:PUBLISH
X-ORIGINAL-URL:https://backstagebristol.com
X-WR-CALDESC:Events for Backstage Bristol Theatre News
REFRESH-INTERVAL;VALUE=DURATION:PT1H
X-Robots-Tag:noindex
X-PUBLISHED-TTL:PT1H
BEGIN:VTIMEZONE
TZID:Europe/London
BEGIN:DAYLIGHT
TZOFFSETFROM:+0000
TZOFFSETTO:+0100
TZNAME:BST
DTSTART:20250330T010000
END:DAYLIGHT
BEGIN:STANDARD
TZOFFSETFROM:+0100
TZOFFSETTO:+0000
TZNAME:GMT
DTSTART:20251026T010000
END:STANDARD
BEGIN:DAYLIGHT
TZOFFSETFROM:+0000
TZOFFSETTO:+0100
TZNAME:BST
DTSTART:20260329T010000
END:DAYLIGHT
BEGIN:STANDARD
TZOFFSETFROM:+0100
TZOFFSETTO:+0000
TZNAME:GMT
DTSTART:20261025T010000
END:STANDARD
BEGIN:DAYLIGHT
TZOFFSETFROM:+0000
TZOFFSETTO:+0100
TZNAME:BST
DTSTART:20270328T010000
END:DAYLIGHT
BEGIN:STANDARD
TZOFFSETFROM:+0100
TZOFFSETTO:+0000
TZNAME:GMT
DTSTART:20271031T010000
END:STANDARD
END:VTIMEZONE
BEGIN:VEVENT
DTSTART;VALUE=DATE:20260310
DTEND;VALUE=DATE:20260314
DTSTAMP:20260419T194600
CREATED:20260227T102814Z
LAST-MODIFIED:20260227T102814Z
UID:54032-1773100800-1773446399@backstagebristol.com
SUMMARY:Little Shop of Horrors - Music Theatre Bristol - Loco Klub
DESCRIPTION:University of Bristol’s Music Theatre Bristol company returns to the stage with Alan Menken and Howard Ashman’s Little Shop of Horrors. \nThe dark comedy sees flower shop assistant Seymour Krelborn discover an unearthly plant after a strange total eclipse of the sun. \nIs it the answer to all his problems? Might it help the struggling flower shop? As the mysterious plant starts to bring more attention and business\, it begins to look like all Seymour’s dreams could finally be coming true. But this plant has a secret…an insatiable appetite…
URL:https://backstagebristol.com/event/little-shop-of-horrors-music-theatre-bristol-loco-klub/
LOCATION:Loco Klub\, BS1 6QH
CATEGORIES:Loco Klub
ATTACH;FMTTYPE=image/jpeg:https://backstagebristol.com/wp-content/uploads/2026/02/Music-Theatre-Bristol-Little-Shop-of-Horrors-Loco-Klub.jpg
END:VEVENT
END:VCALENDAR