BEGIN:VCALENDAR
VERSION:2.0
PRODID:-//Backstage Bristol Theatre News - ECPv6.15.20//NONSGML v1.0//EN
CALSCALE:GREGORIAN
METHOD:PUBLISH
X-ORIGINAL-URL:https://backstagebristol.com
X-WR-CALDESC:Events for Backstage Bristol Theatre News
REFRESH-INTERVAL;VALUE=DURATION:PT1H
X-Robots-Tag:noindex
X-PUBLISHED-TTL:PT1H
BEGIN:VTIMEZONE
TZID:Europe/London
BEGIN:DAYLIGHT
TZOFFSETFROM:+0000
TZOFFSETTO:+0100
TZNAME:BST
DTSTART:20240331T010000
END:DAYLIGHT
BEGIN:STANDARD
TZOFFSETFROM:+0100
TZOFFSETTO:+0000
TZNAME:GMT
DTSTART:20241027T010000
END:STANDARD
BEGIN:DAYLIGHT
TZOFFSETFROM:+0000
TZOFFSETTO:+0100
TZNAME:BST
DTSTART:20250330T010000
END:DAYLIGHT
BEGIN:STANDARD
TZOFFSETFROM:+0100
TZOFFSETTO:+0000
TZNAME:GMT
DTSTART:20251026T010000
END:STANDARD
BEGIN:DAYLIGHT
TZOFFSETFROM:+0000
TZOFFSETTO:+0100
TZNAME:BST
DTSTART:20260329T010000
END:DAYLIGHT
BEGIN:STANDARD
TZOFFSETFROM:+0100
TZOFFSETTO:+0000
TZNAME:GMT
DTSTART:20261025T010000
END:STANDARD
END:VTIMEZONE
BEGIN:VEVENT
DTSTART;TZID=Europe/London:20250503T080000
DTEND;TZID=Europe/London:20250503T170000
DTSTAMP:20260421T124158
CREATED:20250214T125331Z
LAST-MODIFIED:20250214T125331Z
UID:49194-1746259200-1746291600@backstagebristol.com
SUMMARY:That’ll Be The Day - Weston Playhouse
DESCRIPTION:That’ll Be The Day has embarked on its 39th spring tour\, taking in lots of local dates as it works it way around the country. \nThe show celebrates pop culture from the 1950s through to the 1980s. It’s packed full of nostalgic hits from the live band to include The Ronettes\, The Beatles\, Cliff Richard\, ABBA and Tom Jones. \n 
URL:https://backstagebristol.com/event/thatll-be-the-day-weston-playhouse/
LOCATION:Weston Playhouse\, BS23 1HP
CATEGORIES:Regional
ATTACH;FMTTYPE=image/jpeg:https://backstagebristol.com/wp-content/uploads/2025/02/Thatll-Be-The-Day-1.jpeg
END:VEVENT
BEGIN:VEVENT
DTSTART;VALUE=DATE:20250221
DTEND;VALUE=DATE:20250222
DTSTAMP:20260421T124158
CREATED:20250214T125747Z
LAST-MODIFIED:20250214T125747Z
UID:49202-1740096000-1740182399@backstagebristol.com
SUMMARY:That’ll Be The Day - Memorial Theatre Frome
DESCRIPTION:That’ll Be The Day has embarked on its 39th spring tour\, taking in lots of local dates as it works it way around the country. \nThe show celebrates pop culture from the 1950s through to the 1980s. It’s packed full of nostalgic hits from the live band to include The Ronettes\, The Beatles\, Cliff Richard\, ABBA and Tom Jones. \nAudiences should expect brand new additions to the set list as well as timeless favourites.
URL:https://backstagebristol.com/event/thatll-be-the-day-memorial-theatre-frome/
LOCATION:Frome Memorial Theatre\, BA11 1EB
CATEGORIES:Regional
ATTACH;FMTTYPE=image/jpeg:https://backstagebristol.com/wp-content/uploads/2025/02/Thatll-Be-The-Day-1.jpeg
END:VEVENT
BEGIN:VEVENT
DTSTART;VALUE=DATE:20250216
DTEND;VALUE=DATE:20250217
DTSTAMP:20260421T124158
CREATED:20250214T124956Z
LAST-MODIFIED:20250214T124956Z
UID:49188-1739664000-1739750399@backstagebristol.com
SUMMARY:That’ll Be The Day - Yeovil
DESCRIPTION:That’ll Be The Day has embarked on its 39th spring tour\, taking in lots of local dates as it works it way around the country. \n\n\n\nThe show celebrates pop culture from the 1950s through to the 1980s. It’s packed full of nostalgic hits from the live band to include The Ronettes\, The Beatles\, Cliff Richard\, ABBA and Tom Jones. \n\n\n\n 
URL:https://backstagebristol.com/event/thatll-be-the-day-yeovil/
LOCATION:Westlands Entertainment Venue\, BA20 2DD
CATEGORIES:Regional
ATTACH;FMTTYPE=image/jpeg:https://backstagebristol.com/wp-content/uploads/2025/02/Thatll-Be-The-Day.jpeg
END:VEVENT
END:VCALENDAR