BEGIN:VCALENDAR
VERSION:2.0
PRODID:-//Backstage Bristol Theatre News - ECPv6.15.20//NONSGML v1.0//EN
CALSCALE:GREGORIAN
METHOD:PUBLISH
X-ORIGINAL-URL:https://backstagebristol.com
X-WR-CALDESC:Events for Backstage Bristol Theatre News
REFRESH-INTERVAL;VALUE=DURATION:PT1H
X-Robots-Tag:noindex
X-PUBLISHED-TTL:PT1H
BEGIN:VTIMEZONE
TZID:Europe/London
BEGIN:DAYLIGHT
TZOFFSETFROM:+0000
TZOFFSETTO:+0100
TZNAME:BST
DTSTART:20250330T010000
END:DAYLIGHT
BEGIN:STANDARD
TZOFFSETFROM:+0100
TZOFFSETTO:+0000
TZNAME:GMT
DTSTART:20251026T010000
END:STANDARD
BEGIN:DAYLIGHT
TZOFFSETFROM:+0000
TZOFFSETTO:+0100
TZNAME:BST
DTSTART:20260329T010000
END:DAYLIGHT
BEGIN:STANDARD
TZOFFSETFROM:+0100
TZOFFSETTO:+0000
TZNAME:GMT
DTSTART:20261025T010000
END:STANDARD
BEGIN:DAYLIGHT
TZOFFSETFROM:+0000
TZOFFSETTO:+0100
TZNAME:BST
DTSTART:20270328T010000
END:DAYLIGHT
BEGIN:STANDARD
TZOFFSETFROM:+0100
TZOFFSETTO:+0000
TZNAME:GMT
DTSTART:20271031T010000
END:STANDARD
END:VTIMEZONE
BEGIN:VEVENT
DTSTART;VALUE=DATE:20260516
DTEND;VALUE=DATE:20260517
DTSTAMP:20260418T225955
CREATED:20260418T170345Z
LAST-MODIFIED:20260418T170345Z
UID:54612-1778889600-1778975999@backstagebristol.com
SUMMARY:Bassekou Kouyate & Amy Sacko - The Jam Jar
DESCRIPTION:From Mali\, legendary musician and ngoni master Bassekou Kouyate tours the UK for the first time as a duo with his wife\, the revered griot singer and exceptional vocalist Amy Sacko following the release of Djudjon\, L’Oiseau de Garana (2024)\, their first chart-topping album together. \nConnecting past and present\, this will be a unique\, intimate and extraordinary opportunity to experience a performance that reaches to the very heart of Mali – deeply personal\, expressive\, chamber-style that promises a rare closeness between artists and audience\, a space where each note and lyric resonates deeply.
URL:https://backstagebristol.com/event/bassekou-kouyate-amy-sacko-the-jam-jar/
LOCATION:The Jam Jar\, BS2 9EB
CATEGORIES:The Jam Jar
ATTACH;FMTTYPE=image/png:https://backstagebristol.com/wp-content/uploads/2026/04/Bassekou-Kouyate-Amy-Sacko-The-Jam-Jar.png
END:VEVENT
BEGIN:VEVENT
DTSTART;VALUE=DATE:20260520
DTEND;VALUE=DATE:20260521
DTSTAMP:20260418T225955
CREATED:20260418T164239Z
LAST-MODIFIED:20260418T164239Z
UID:54604-1779235200-1779321599@backstagebristol.com
SUMMARY:Taste - The Jam Jar
DESCRIPTION:An night of experimental performances from the queer East & Southeast Asian (ESEA) community comes to Bristol for the very first time.\n\nKakilang will be bringing Taste to The Jam Jar in May. It’s actually the very first time the event will have taken place outside of London.\n\nTaste will feature a mix of performances covering theatre\, comedy\, music\, spoken word and surprises.\n\nHost\, Miss Dynasty will also be giving a special performance on the evening.\n\n\n\nThe emerging queer artists who are taking part are: \n\nPretty Girl Ping (TIM LYTC and D)\nYiran Liu\, aka Hazed Date\nWan Long Kok 万龙国\n\nWhen the show is finished\, DJ FFINN will be taking to the decks to keep the party going.\n\n\nThe event will be be a safe\, inclusive and fun space.
URL:https://backstagebristol.com/event/taste-the-jam-jar/
LOCATION:The Jam Jar\, BS2 9EB
CATEGORIES:The Jam Jar
ATTACH;FMTTYPE=image/jpeg:https://backstagebristol.com/wp-content/uploads/2026/04/Bristol-Taste-Jam-Jar.jpg
END:VEVENT
END:VCALENDAR