BEGIN:VCALENDAR
VERSION:2.0
PRODID:-//Backstage Bristol Theatre News - ECPv6.15.20//NONSGML v1.0//EN
CALSCALE:GREGORIAN
METHOD:PUBLISH
X-WR-CALNAME:Backstage Bristol Theatre News
X-ORIGINAL-URL:https://backstagebristol.com
X-WR-CALDESC:Events for Backstage Bristol Theatre News
REFRESH-INTERVAL;VALUE=DURATION:PT1H
X-Robots-Tag:noindex
X-PUBLISHED-TTL:PT1H
BEGIN:VTIMEZONE
TZID:Europe/London
BEGIN:DAYLIGHT
TZOFFSETFROM:+0000
TZOFFSETTO:+0100
TZNAME:BST
DTSTART:20240331T010000
END:DAYLIGHT
BEGIN:STANDARD
TZOFFSETFROM:+0100
TZOFFSETTO:+0000
TZNAME:GMT
DTSTART:20241027T010000
END:STANDARD
BEGIN:DAYLIGHT
TZOFFSETFROM:+0000
TZOFFSETTO:+0100
TZNAME:BST
DTSTART:20250330T010000
END:DAYLIGHT
BEGIN:STANDARD
TZOFFSETFROM:+0100
TZOFFSETTO:+0000
TZNAME:GMT
DTSTART:20251026T010000
END:STANDARD
BEGIN:DAYLIGHT
TZOFFSETFROM:+0000
TZOFFSETTO:+0100
TZNAME:BST
DTSTART:20260329T010000
END:DAYLIGHT
BEGIN:STANDARD
TZOFFSETFROM:+0100
TZOFFSETTO:+0000
TZNAME:GMT
DTSTART:20261025T010000
END:STANDARD
END:VTIMEZONE
BEGIN:VEVENT
DTSTART;VALUE=DATE:20250506
DTEND;VALUE=DATE:20250511
DTSTAMP:20260419T202255
CREATED:20250325T093322Z
LAST-MODIFIED:20250325T093322Z
UID:49567-1746489600-1746921599@backstagebristol.com
SUMMARY:Frankenstein (On a Budget) – The Wardrobe Theatre Bristol
DESCRIPTION:Lamphouse Theatre returns to Bristol with their brand new show Frankenstein (On a Budget). \nThe show is brought to the stage by the same team as War of the Worlds (On a Budget) with funny man Tom Fox once again playing all the parts. \nExpect one man with cardboard props\, clowning and original music in this Hammer horror homage. \nFeatured Image: Thomas Byron Photography
URL:https://backstagebristol.com/event/frankenstein-on-a-budget-the-wardrobe-theatre-bristol/
LOCATION:The Wardrobe Theatre\, BS2 0DF
CATEGORIES:The Wardrobe Theatre
ATTACH;FMTTYPE=image/jpeg:https://backstagebristol.com/wp-content/uploads/2025/03/Frankenstein-On-a-Budget-The-Wardrobe-Theatre-Bristol.jpg
END:VEVENT
BEGIN:VEVENT
DTSTART;VALUE=DATE:20250505
DTEND;VALUE=DATE:20250506
DTSTAMP:20260419T202255
CREATED:20250225T110551Z
LAST-MODIFIED:20250225T110551Z
UID:49299-1746403200-1746489599@backstagebristol.com
SUMMARY:Closer Each Day at The Wardrobe Theatre
DESCRIPTION:Closer Each Day is on season 30 and celebrated its 250th performance in February 2025. \nThe world’s longest running narrative show is an uplifting and hilarious soap opera full of all the storylines and characters you love and love to hate.
URL:https://backstagebristol.com/event/closer-each-day-at-the-wardrobe-theatre-4/
LOCATION:The Wardrobe Theatre\, BS2 0DF
CATEGORIES:Bristol Theatre,The Wardrobe Theatre
END:VEVENT
BEGIN:VEVENT
DTSTART;TZID=Europe/London:20250421T080000
DTEND;TZID=Europe/London:20250421T170000
DTSTAMP:20260419T202255
CREATED:20250225T110439Z
LAST-MODIFIED:20250225T110439Z
UID:49297-1745222400-1745254800@backstagebristol.com
SUMMARY:Closer Each Day
DESCRIPTION:Closer Each Day is on season 30 and celebrated its 250th performance in February 2025. \nThe world’s longest running narrative show is an uplifting and hilarious soap opera full of all the storylines and characters you love and love to hate.
URL:https://backstagebristol.com/event/closer-each-day/
LOCATION:The Wardrobe Theatre\, BS2 0DF
CATEGORIES:Bristol Theatre,The Wardrobe Theatre
ATTACH;FMTTYPE=image/jpeg:https://backstagebristol.com/wp-content/uploads/2024/05/Closer-Each-Day-The-Wardrobe-Bristol.jpg
END:VEVENT
BEGIN:VEVENT
DTSTART;VALUE=DATE:20250407
DTEND;VALUE=DATE:20250408
DTSTAMP:20260419T202255
CREATED:20250225T110308Z
LAST-MODIFIED:20250225T110308Z
UID:49295-1743984000-1744070399@backstagebristol.com
SUMMARY:Closer Each Day at The Wardrobe Theatre
DESCRIPTION:Closer Each Day is on season 30 and celebrated its 250th performance in February 2025. \nThe world’s longest running narrative show is an uplifting and hilarious soap opera full of all the storylines and characters you love and love to hate.
URL:https://backstagebristol.com/event/closer-each-day-at-the-wardrobe-theatre-3/
LOCATION:The Wardrobe Theatre\, BS2 0DF
CATEGORIES:Bristol Theatre,The Wardrobe Theatre
ATTACH;FMTTYPE=image/jpeg:https://backstagebristol.com/wp-content/uploads/2024/05/Closer-Each-Day-The-Wardrobe-Bristol.jpg
END:VEVENT
BEGIN:VEVENT
DTSTART;VALUE=DATE:20250403
DTEND;VALUE=DATE:20250406
DTSTAMP:20260419T202255
CREATED:20250218T141907Z
LAST-MODIFIED:20250218T141907Z
UID:49218-1743638400-1743897599@backstagebristol.com
SUMMARY:Rosalie Minnitt: Clementine - At The Wardrobe Theatre
DESCRIPTION:Fringe hit – Rosalie Minnitt: Clementine – has been destribed as “Bridgerton-meets-Gen-Z-Jane-Austen-on-Adderall” and good news – it’s coming to Bristol. \nLady Clementine has until her 27th birthday to find The One. When her latest beau goes missing\, Clementine embarks on a hilariously unhinged quest to solve the mystery of her ill fortune. But with neither sense nor sensibility\, will our romantic heroine find love in time? \n 
URL:https://backstagebristol.com/event/rosalie-minnitt-clementine-at-the-wardrobe-theatre/
LOCATION:The Wardrobe Theatre\, BS2 0DF
CATEGORIES:Bristol Theatre,The Wardrobe Theatre
ATTACH;FMTTYPE=image/jpeg:https://backstagebristol.com/wp-content/uploads/2024/12/Rosalie-Minnitt-Clementine-Comes-To-The-Wardrobe-Theatre.jpeg
END:VEVENT
BEGIN:VEVENT
DTSTART;VALUE=DATE:20250331
DTEND;VALUE=DATE:20250402
DTSTAMP:20260419T202255
CREATED:20250318T105241Z
LAST-MODIFIED:20250318T113320Z
UID:49467-1743379200-1743551999@backstagebristol.com
SUMMARY:Scraps - The Wardrobe Theatre Bristol
DESCRIPTION:Bristol creatives Mia Macleod and Daisy Kennedy return to the stage with SCRAPS\, which will be at the Wardrobe Theatre at the end of March. \nScraps is a semi-autobiographical piece of theatre combining dance\, lipsync\, clowning in this comedy satire. \nThe show explores the class divide in within the creative world\, poking fun at the everyday struggles of Austerity-Britain™ and follows the course of two artists who just want to make work that matters. \nMia and Daisy say: “We have different class backgrounds and when creating a show set now\, during a cost of living crisis\, we realised it was something we couldn’t just jump over. By doing that we dismiss a huge chunk of our lives and identities\, but it’s not as simple as working class or middle class and we wanted to pick apart that conversation within our work. The characters in SCRAPS are dramatised versions of ourselves; we have interrogated our own identities and magnified the expectations that may be put onto us dependent on our class bracket.” \n\n\nPhotography by Craig Fuller
URL:https://backstagebristol.com/event/scraps-the-wardrobe-theatre-bristol/
LOCATION:The Wardrobe Theatre\, BS2 0DF
CATEGORIES:Bristol Theatre,The Wardrobe Theatre
ATTACH;FMTTYPE=image/jpeg:https://backstagebristol.com/wp-content/uploads/2025/03/Scraps-The-Wardrobe-Theatre-Bristol.jpg
END:VEVENT
BEGIN:VEVENT
DTSTART;VALUE=DATE:20250324
DTEND;VALUE=DATE:20250325
DTSTAMP:20260419T202255
CREATED:20250225T110137Z
LAST-MODIFIED:20250225T110137Z
UID:49293-1742774400-1742860799@backstagebristol.com
SUMMARY:Closer Each Day at The Wardrobe Theatre
DESCRIPTION:Closer Each Day is on season 30 and celebrated its 250th performance in February 2025. \nThe world’s longest running narrative show is an uplifting and hilarious soap opera full of all the storylines and characters you love and love to hate.
URL:https://backstagebristol.com/event/closer-each-day-at-the-wardrobe-theatre-2/
LOCATION:The Wardrobe Theatre\, BS2 0DF
CATEGORIES:Bristol Theatre,The Wardrobe Theatre
ATTACH;FMTTYPE=image/jpeg:https://backstagebristol.com/wp-content/uploads/2024/05/Closer-Each-Day-The-Wardrobe-Bristol.jpg
END:VEVENT
BEGIN:VEVENT
DTSTART;VALUE=DATE:20250310
DTEND;VALUE=DATE:20250311
DTSTAMP:20260419T202255
CREATED:20250225T105928Z
LAST-MODIFIED:20250225T105928Z
UID:49291-1741564800-1741651199@backstagebristol.com
SUMMARY:Closer Each Day at The Wardrobe Theatre
DESCRIPTION:Closer Each Day is on season 30 and celebrated its 250th performance in February 2025. \nThe world’s longest running narrative show is an uplifting and hilarious soap opera full of all the storylines and characters you love and love to hate.
URL:https://backstagebristol.com/event/closer-each-day-at-the-wardrobe-theatre/
LOCATION:The Wardrobe Theatre\, BS2 0DF
CATEGORIES:Bristol Theatre,The Wardrobe Theatre
ATTACH;FMTTYPE=image/jpeg:https://backstagebristol.com/wp-content/uploads/2024/09/Company-of-Closer-Each-Day-at-The-Wardrobe-Theatre.jpg
END:VEVENT
BEGIN:VEVENT
DTSTART;VALUE=DATE:20250304
DTEND;VALUE=DATE:20250309
DTSTAMP:20260419T202255
CREATED:20250108T145914Z
LAST-MODIFIED:20250108T145914Z
UID:48826-1741046400-1741478399@backstagebristol.com
SUMMARY:The Spanking Goddess Comes to The Wardrobe Theatre Bristol
DESCRIPTION:Badass deities\, feral fighters and goddess-on-goddess battles – Murphy’s show brings storytelling for grown-ups to the Old Market theatre\n\nBristol storyteller Clare Murphy\, will be bringing The Spanking Goddess and Other Discarded Tales to The Wardrobe Theatre this March. \nWith an age recommendation of 16 years upwards\, the myths turn to the Celtic canon to bring wild women into the light. The stories are described as ‘not for the faint-hearted’\, containing a shapeshifter who spanks her opponents\, unorthodox sex\, heroes\, feral fighters\, badass deities and goddess on goddess battles. \n 
URL:https://backstagebristol.com/event/the-spanking-goddess-comes-to-the-wardrobe-theatre-bristol/
LOCATION:The Wardrobe Theatre\, BS2 0DF
CATEGORIES:Bristol Theatre,The Wardrobe Theatre
ATTACH;FMTTYPE=image/jpeg:https://backstagebristol.com/wp-content/uploads/2025/01/The-Spanking-Goddess-Comes-to-The-Wardrobe-Theatre-Bristol.jpg
END:VEVENT
BEGIN:VEVENT
DTSTART;VALUE=DATE:20250218
DTEND;VALUE=DATE:20250221
DTSTAMP:20260419T202255
CREATED:20250102T010336Z
LAST-MODIFIED:20250106T092020Z
UID:48728-1739836800-1740095999@backstagebristol.com
SUMMARY:Along Came A Magpie The Wardrobe Theatre
DESCRIPTION:A heartwarming tale about the value of connecting with others\, even when the path isn’t always smooth. \nThe Gardener loves the smell of the flowers\, the feel of the earth and watching her plants bloom. But along comes a magpie who turns her potting shed upside down! Making new friends can be lots of fun\, but can sometimes be tricky. Join our gardener and magpie on this playful and heart warming journey as they navigate the intricacies of friendship. \nFeaturing puppetry\, plants and lots of pots\, this show is designed to delight ages 2-6 and their grown ups. \nRunning time: 40 minutes \nTuesday 18 – Thursday 20 February 2025 \n  \nFor more Bristol Theatre News: https://backstagebristol.com/ \n 
URL:https://backstagebristol.com/event/along-came-a-magpie-the-wardrobe-theatre/
LOCATION:The Wardrobe Theatre\, BS2 0DF
CATEGORIES:Bristol Theatre,Children's Theatre,The Wardrobe Theatre
ATTACH;FMTTYPE=image/jpeg:https://backstagebristol.com/wp-content/uploads/2025/01/Along-Came-A-Magpie-The-Wardrobe-Theatre-Bristol.jpg
END:VEVENT
BEGIN:VEVENT
DTSTART;VALUE=DATE:20250207
DTEND;VALUE=DATE:20250208
DTSTAMP:20260419T202255
CREATED:20250120T120448Z
LAST-MODIFIED:20250120T120448Z
UID:48941-1738886400-1738972799@backstagebristol.com
SUMMARY:Jack and Jordan Cosmic Twegheads The Wardrobe Theatre
DESCRIPTION:Weston Super Mare pair Jack and Jordan\, are bringing their show Cosmic Twegheads to The Wardrobe Theatre this February.It’s the first date in a south west tour which also takes in the Brewhouse in Taunton\, The Lantern in Brighton\, Front Room in Weston Super Mare and The Rondo in Bath.\nJack and Jordan Cosmic Twegheads brings audience fast-paced surreal and energetic sketch comedy. \nThe pair going to space on a farewell flight aboard their patented flying ironing board. The journey sees them stopping at The Cats Eyes Factory\, The Island of a Thousand Lost Souls as well as The Pub. \n  \n 
URL:https://backstagebristol.com/event/jack-and-jordan-cosmic-twegheads-the-wardrobe-theatre/
LOCATION:The Wardrobe Theatre\, BS2 0DF
CATEGORIES:Comedy,The Wardrobe Theatre
ATTACH;FMTTYPE=image/jpeg:https://backstagebristol.com/wp-content/uploads/2025/01/Jack-and-Jordan-Cosmic-Twegheads.jpg
END:VEVENT
BEGIN:VEVENT
DTSTART;VALUE=DATE:20250129
DTEND;VALUE=DATE:20250131
DTSTAMP:20260419T202255
CREATED:20250120T230518Z
LAST-MODIFIED:20250120T230518Z
UID:48965-1738108800-1738281599@backstagebristol.com
SUMMARY:Harpist and Comedian Scarlett Smith brings Any Objections? to The Wardrobe Theatre
DESCRIPTION:‘Bridgerton-esque’ alt-harp player debuts new show at Old Market theatre\n\nAlt-harp tunes\, celestial soundscapes mixed with whimsy and stand-up comedy is the format of Scarlett Smith’s debut show playing at The Wardrobe Theatre this month. \nThe electro-acoustic harpist will be bringing Any Objections to The Wardrobe Theatre. \nScarlett has built up a following after a decade of playing weddings and performing more than 100 socially distanced pop-up concerts around Bristol during Lockdown. She uses a harp\, a loop station and multi-effects pedals to create glorious music\, with a unique and playful sound. \nScarlett says the show will blend ‘wit’ and ‘whimsy’ as well music and comedy. There will be funny stories from her experiences working in the wedding industry as well as some very questionable enquiries received. \nScarlett Smith will be performing Any Objections at The Wardrobe Theatre on 29 and 30 January 2025 \n 
URL:https://backstagebristol.com/event/harpist-and-comedian-scarlett-smith-brings-any-objections-to-the-wardrobe-theatre/
LOCATION:The Wardrobe Theatre\, BS2 0DF
CATEGORIES:Music,The Wardrobe Theatre
ATTACH;FMTTYPE=image/jpeg:https://backstagebristol.com/wp-content/uploads/2024/11/Electro-Acoustic-Harpist-and-Comedian-Scarlett-Smith.jpeg
END:VEVENT
END:VCALENDAR