BEGIN:VCALENDAR
VERSION:2.0
PRODID:-//Backstage Bristol Theatre News - ECPv6.15.20//NONSGML v1.0//EN
CALSCALE:GREGORIAN
METHOD:PUBLISH
X-ORIGINAL-URL:https://backstagebristol.com
X-WR-CALDESC:Events for Backstage Bristol Theatre News
REFRESH-INTERVAL;VALUE=DURATION:PT1H
X-Robots-Tag:noindex
X-PUBLISHED-TTL:PT1H
BEGIN:VTIMEZONE
TZID:Europe/London
BEGIN:DAYLIGHT
TZOFFSETFROM:+0000
TZOFFSETTO:+0100
TZNAME:BST
DTSTART:20250330T010000
END:DAYLIGHT
BEGIN:STANDARD
TZOFFSETFROM:+0100
TZOFFSETTO:+0000
TZNAME:GMT
DTSTART:20251026T010000
END:STANDARD
BEGIN:DAYLIGHT
TZOFFSETFROM:+0000
TZOFFSETTO:+0100
TZNAME:BST
DTSTART:20260329T010000
END:DAYLIGHT
BEGIN:STANDARD
TZOFFSETFROM:+0100
TZOFFSETTO:+0000
TZNAME:GMT
DTSTART:20261025T010000
END:STANDARD
BEGIN:DAYLIGHT
TZOFFSETFROM:+0000
TZOFFSETTO:+0100
TZNAME:BST
DTSTART:20270328T010000
END:DAYLIGHT
BEGIN:STANDARD
TZOFFSETFROM:+0100
TZOFFSETTO:+0000
TZNAME:GMT
DTSTART:20271031T010000
END:STANDARD
END:VTIMEZONE
BEGIN:VEVENT
DTSTART;VALUE=DATE:20260411
DTEND;VALUE=DATE:20260412
DTSTAMP:20260421T124448
CREATED:20260302T122611Z
LAST-MODIFIED:20260302T122611Z
UID:54077-1775865600-1775951999@backstagebristol.com
SUMMARY:Wearing the Trousers: the True Story of Vesta Tilley - Theatre Shop Clevedon
DESCRIPTION:Wearing The Trousers: the true story of Vesta Tilley plots the life of one of the most successful cross-dressing music hall stars that most of the world has never heard of. Spanning Vesta’s life from childhood to her mid-seventies\, Vesta Tilley has been written for Seizing The Day Company’s diva performer\, Alexandra Pickford. Alex is also in her mid-seventies and will bring the show to life in a series of flashbacks supported by a multi-role cast of three additional actors. \nUsing original music and songs from Vesta Tilley’s playbook and some reworked pieces\, the story leads us from her dotage in Monaco back to her theatre debut aged five\, to the extraordinary People’s Tribute book\, presented to her by Ellen Terry and signed by admirers Charlie Chaplin\, Sir Arthur Conan Doyle\, Harry Houdini and two million members of the public\, to celebrate her career and retirement from the stage.
URL:https://backstagebristol.com/event/wearing-the-trousers-the-true-story-of-vesta-tilley-theatre-shop-clevedon/
LOCATION:Theatre shop Clevedon\, BS21 6HX
CATEGORIES:Theatre Shop Clevedon
ATTACH;FMTTYPE=image/png:https://backstagebristol.com/wp-content/uploads/2026/03/Wearing-the-Trousers-Alma-Tavern-Theatre.png
END:VEVENT
END:VCALENDAR