BEGIN:VCALENDAR
VERSION:2.0
PRODID:-//Backstage Bristol Theatre News - ECPv6.15.20//NONSGML v1.0//EN
CALSCALE:GREGORIAN
METHOD:PUBLISH
X-ORIGINAL-URL:https://backstagebristol.com
X-WR-CALDESC:Events for Backstage Bristol Theatre News
REFRESH-INTERVAL;VALUE=DURATION:PT1H
X-Robots-Tag:noindex
X-PUBLISHED-TTL:PT1H
BEGIN:VTIMEZONE
TZID:Europe/London
BEGIN:DAYLIGHT
TZOFFSETFROM:+0000
TZOFFSETTO:+0100
TZNAME:BST
DTSTART:20240331T010000
END:DAYLIGHT
BEGIN:STANDARD
TZOFFSETFROM:+0100
TZOFFSETTO:+0000
TZNAME:GMT
DTSTART:20241027T010000
END:STANDARD
BEGIN:DAYLIGHT
TZOFFSETFROM:+0000
TZOFFSETTO:+0100
TZNAME:BST
DTSTART:20250330T010000
END:DAYLIGHT
BEGIN:STANDARD
TZOFFSETFROM:+0100
TZOFFSETTO:+0000
TZNAME:GMT
DTSTART:20251026T010000
END:STANDARD
BEGIN:DAYLIGHT
TZOFFSETFROM:+0000
TZOFFSETTO:+0100
TZNAME:BST
DTSTART:20260329T010000
END:DAYLIGHT
BEGIN:STANDARD
TZOFFSETFROM:+0100
TZOFFSETTO:+0000
TZNAME:GMT
DTSTART:20261025T010000
END:STANDARD
END:VTIMEZONE
BEGIN:VEVENT
DTSTART;VALUE=DATE:20251008
DTEND;VALUE=DATE:20251019
DTSTAMP:20260418T191912
CREATED:20250916T223259Z
LAST-MODIFIED:20250916T223259Z
UID:51640-1759881600-1760831999@backstagebristol.com
SUMMARY:Così Fan Tutte - Tobacco Factory Theatres
DESCRIPTION:Tobacco Factory Theatres and Opera Project Present a brand new co-production of Mozart’s Così Fan Tutte. \nFollowing the acclaimed success of The Marriage of Figaro in 2024\, Tobacco Factory Theatres and Opera Project reunite to bring another of Mozart’s beloved operas to life. Così Fan Tutte will run from 8–18 October 2025 at the Factory Theatre\, offering audiences a delightful blend of wit\, romance\, and sublime music. \nThis new production\, sung in English and accompanied by the exceptional Opera Project Orchestra\, promises to deliver all the charm\, warmth\, and energy that audiences have come to expect from this cherished collaboration. \n 
URL:https://backstagebristol.com/event/cosi-fan-tutte-tobacco-factory-theatres/
LOCATION:Tobacco Factory Theatres\, BS3 1TF
CATEGORIES:Tobacco Factory Theatres
ATTACH;FMTTYPE=image/png:https://backstagebristol.com/wp-content/uploads/2025/09/Cosi-Fan-Tutte-Tobacco-Factory-Theatres.png
END:VEVENT
BEGIN:VEVENT
DTSTART;VALUE=DATE:20251023
DTEND;VALUE=DATE:20251026
DTSTAMP:20260418T191912
CREATED:20250924T163308Z
LAST-MODIFIED:20250924T163308Z
UID:51789-1761177600-1761436799@backstagebristol.com
SUMMARY:Bad Lads at Tobacco Factory Theatres
DESCRIPTION:Graeae Theatre Company will be bringing their latest production – Bad Lads by Mike Kenny – to Tobacco Factory Theatres this October. \nThe play has been created from the testimonies of former inmates at Medomsley Youth Detention Centre in County Durham in the 1980s. \nThe prison was used to incarcerate young men who had been involved in petty crime. But what happened inside the walls was much worse. \nThe play gives voice to a group of men who have been unheard in the past and who had their lives wrecked because of a piece of government policy that many would argue was ineffective\, disproportionate and lastingly detrimental. \nMike Kenny’s play uncovers the truth behind what happened to these young men\, revealing how it still impacts their lives some forty years after the events and looks at a system that failed these working-class men. At a time when the cry for accountability is louder than ever; Bad Lads demands remembrance and calls for justice. \nAll performances will integrate British Sign Language (BSL)\, audio description\, creative captions and will be presented in a relaxed environment. \nBooking details below
URL:https://backstagebristol.com/event/bad-lads-at-tobacco-factory-theatres/
LOCATION:Tobacco Factory Theatres\, BS3 1TF
CATEGORIES:Tobacco Factory Theatres
ATTACH;FMTTYPE=image/jpeg:https://backstagebristol.com/wp-content/uploads/2025/09/Bad-Lads-Tobacco-Factory-Theatres-Bristol.jpg
END:VEVENT
END:VCALENDAR