BEGIN:VCALENDAR
VERSION:2.0
PRODID:-//Backstage Bristol Theatre News - ECPv6.15.20//NONSGML v1.0//EN
CALSCALE:GREGORIAN
METHOD:PUBLISH
X-ORIGINAL-URL:https://backstagebristol.com
X-WR-CALDESC:Events for Backstage Bristol Theatre News
REFRESH-INTERVAL;VALUE=DURATION:PT1H
X-Robots-Tag:noindex
X-PUBLISHED-TTL:PT1H
BEGIN:VTIMEZONE
TZID:Europe/London
BEGIN:DAYLIGHT
TZOFFSETFROM:+0000
TZOFFSETTO:+0100
TZNAME:BST
DTSTART:20250330T010000
END:DAYLIGHT
BEGIN:STANDARD
TZOFFSETFROM:+0100
TZOFFSETTO:+0000
TZNAME:GMT
DTSTART:20251026T010000
END:STANDARD
BEGIN:DAYLIGHT
TZOFFSETFROM:+0000
TZOFFSETTO:+0100
TZNAME:BST
DTSTART:20260329T010000
END:DAYLIGHT
BEGIN:STANDARD
TZOFFSETFROM:+0100
TZOFFSETTO:+0000
TZNAME:GMT
DTSTART:20261025T010000
END:STANDARD
BEGIN:DAYLIGHT
TZOFFSETFROM:+0000
TZOFFSETTO:+0100
TZNAME:BST
DTSTART:20270328T010000
END:DAYLIGHT
BEGIN:STANDARD
TZOFFSETFROM:+0100
TZOFFSETTO:+0000
TZNAME:GMT
DTSTART:20271031T010000
END:STANDARD
END:VTIMEZONE
BEGIN:VEVENT
DTSTART;VALUE=DATE:20260130
DTEND;VALUE=DATE:20260201
DTSTAMP:20260422T183306
CREATED:20260105T205621Z
LAST-MODIFIED:20260105T205621Z
UID:53026-1769731200-1769903999@backstagebristol.com
SUMMARY:Audrey Heartburn: Bingo at Tiffany’s - Tobacco Factory Theatres
DESCRIPTION:Join the fabulously funny Tracey Collins as she brings you the hilarious\, heartwarming\, and bonkers Bingo at Tiffany’s\, starring the one and only Audrey Heartburn!  This award-winning character comedian will have you in stitches as she takes you on a riotous ride through a night of musical comedy\, bingo\, and pure chaos. \nAudrey’s traded the Hollywood hills for the real world—and she’s looking for love (and maybe a little bit of mischief) right here in Bristol! \nSpin the bingo cage\, shake those maracas\, and dance the night away with this iconic character.
URL:https://backstagebristol.com/event/audrey-heartburn-bingo-at-tiffanys-tobacco-factory-theatres/
LOCATION:Tobacco Factory Theatres\, BS3 1TF
CATEGORIES:Tobacco Factory Theatres
ATTACH;FMTTYPE=image/png:https://backstagebristol.com/wp-content/uploads/2026/01/Audrey-Heartburn-Bingo-at-Tiffanys-Tobacco-Factory-Theatres.png
END:VEVENT
END:VCALENDAR