BEGIN:VCALENDAR
VERSION:2.0
PRODID:-//Backstage Bristol Theatre News - ECPv6.15.20//NONSGML v1.0//EN
CALSCALE:GREGORIAN
METHOD:PUBLISH
X-ORIGINAL-URL:https://backstagebristol.com
X-WR-CALDESC:Events for Backstage Bristol Theatre News
REFRESH-INTERVAL;VALUE=DURATION:PT1H
X-Robots-Tag:noindex
X-PUBLISHED-TTL:PT1H
BEGIN:VTIMEZONE
TZID:Europe/London
BEGIN:DAYLIGHT
TZOFFSETFROM:+0000
TZOFFSETTO:+0100
TZNAME:BST
DTSTART:20250330T010000
END:DAYLIGHT
BEGIN:STANDARD
TZOFFSETFROM:+0100
TZOFFSETTO:+0000
TZNAME:GMT
DTSTART:20251026T010000
END:STANDARD
BEGIN:DAYLIGHT
TZOFFSETFROM:+0000
TZOFFSETTO:+0100
TZNAME:BST
DTSTART:20260329T010000
END:DAYLIGHT
BEGIN:STANDARD
TZOFFSETFROM:+0100
TZOFFSETTO:+0000
TZNAME:GMT
DTSTART:20261025T010000
END:STANDARD
BEGIN:DAYLIGHT
TZOFFSETFROM:+0000
TZOFFSETTO:+0100
TZNAME:BST
DTSTART:20270328T010000
END:DAYLIGHT
BEGIN:STANDARD
TZOFFSETFROM:+0100
TZOFFSETTO:+0000
TZNAME:GMT
DTSTART:20271031T010000
END:STANDARD
END:VTIMEZONE
BEGIN:VEVENT
DTSTART;VALUE=DATE:20260519
DTEND;VALUE=DATE:20260521
DTSTAMP:20260422T163842
CREATED:20260402T140839Z
LAST-MODIFIED:20260402T140839Z
UID:54414-1779148800-1779321599@backstagebristol.com
SUMMARY:Prayers For A Hungry Ghost - Tobacco Factory Theatres
DESCRIPTION:Kiss Witness brings Prayers For A Hungry Ghost to Bristol this spring. \nThe family drama sold out its premiere run at the Barbican Centre last year. \nIn a nightmarish underworld of hungry ghosts\, a migrant family confronts the true cost of their choices. \nThis ensemble production powerfully combines horror\, physical performance\, live cinema\, dark comedy and Chinese mythology — in which ‘hungry ghosts’ are reincarnated souls of those who were greedy or violent in their lives. \nFeatured Image: Ikin Yum
URL:https://backstagebristol.com/event/prayers-for-a-hungry-ghost-tobacco-factory-theatres/
LOCATION:Tobacco Factory Theatres\, BS3 1TF
CATEGORIES:Tobacco Factory Theatres
ATTACH;FMTTYPE=image/jpeg:https://backstagebristol.com/wp-content/uploads/2026/04/Prayers-For-A-Hungry-Ghost-Tobacco-Factory-Theatres-scaled.jpg
END:VEVENT
END:VCALENDAR