BEGIN:VCALENDAR
VERSION:2.0
PRODID:-//Backstage Bristol Theatre News - ECPv6.15.20//NONSGML v1.0//EN
CALSCALE:GREGORIAN
METHOD:PUBLISH
X-ORIGINAL-URL:https://backstagebristol.com
X-WR-CALDESC:Events for Backstage Bristol Theatre News
REFRESH-INTERVAL;VALUE=DURATION:PT1H
X-Robots-Tag:noindex
X-PUBLISHED-TTL:PT1H
BEGIN:VTIMEZONE
TZID:Europe/London
BEGIN:DAYLIGHT
TZOFFSETFROM:+0000
TZOFFSETTO:+0100
TZNAME:BST
DTSTART:20250330T010000
END:DAYLIGHT
BEGIN:STANDARD
TZOFFSETFROM:+0100
TZOFFSETTO:+0000
TZNAME:GMT
DTSTART:20251026T010000
END:STANDARD
BEGIN:DAYLIGHT
TZOFFSETFROM:+0000
TZOFFSETTO:+0100
TZNAME:BST
DTSTART:20260329T010000
END:DAYLIGHT
BEGIN:STANDARD
TZOFFSETFROM:+0100
TZOFFSETTO:+0000
TZNAME:GMT
DTSTART:20261025T010000
END:STANDARD
BEGIN:DAYLIGHT
TZOFFSETFROM:+0000
TZOFFSETTO:+0100
TZNAME:BST
DTSTART:20270328T010000
END:DAYLIGHT
BEGIN:STANDARD
TZOFFSETFROM:+0100
TZOFFSETTO:+0000
TZNAME:GMT
DTSTART:20271031T010000
END:STANDARD
END:VTIMEZONE
BEGIN:VEVENT
DTSTART;VALUE=DATE:20260422
DTEND;VALUE=DATE:20260424
DTSTAMP:20260422T132100
CREATED:20260407T175546Z
LAST-MODIFIED:20260407T175546Z
UID:54465-1776816000-1776988799@backstagebristol.com
SUMMARY:Alas! Poor Yorick - Tobacco Factory Theatres
DESCRIPTION:If the Two Ronnies were cast as the Gravediggers in Shakespeare’s Hamlet re-written by Samuel Beckett you might have something like Ridiculusmus’s “Alas! Poor Yorick”. Mixing the mundane with the magical; moments of banal idiocy are interspersed with ones of cinematic elegance to an underscore of groans\, grunts and the odd Shakespearean aside. The legendary independent theatre double act of Jon Haynes and David Woods pull out every trick in their theatrical playbook to create a fresh take on Shakespeare’s much–loved clowns\, re-enacting all the preceding acts of the original and meticulously staging the famous graveyard scene in all its 420 year-old glory. Flipping the Shakespearean original tragedy into an existential clown piece\, Ridiculusmus cast aside chaos and mistaken murders to unearth a beautiful and oddly movingmeditation on work\, faith and existence\, with the prevaricating protagonist offered in a refreshingly contemporary light. 
URL:https://backstagebristol.com/event/alas-poor-yorick-tobacco-factory-theatres/
LOCATION:Tobacco Factory Theatres\, BS3 1TF
CATEGORIES:Tobacco Factory Theatres
ATTACH;FMTTYPE=image/jpeg:https://backstagebristol.com/wp-content/uploads/2026/04/IMG_3638.jpeg
END:VEVENT
BEGIN:VEVENT
DTSTART;VALUE=DATE:20260424
DTEND;VALUE=DATE:20260425
DTSTAMP:20260422T132100
CREATED:20260407T183518Z
LAST-MODIFIED:20260407T183518Z
UID:54479-1776988800-1777075199@backstagebristol.com
SUMMARY:We Are Fox - Tobacco Factory Theatres
DESCRIPTION:Not all folk tales are about forests full of princesses. You knew that\, right?   \nWe got to thinking about how we live in the high rises and terraces\, suburbs and estates. And then we went skip-diving for old stories about people – human and otherwise – with pasts\, with secrets\, with experiences to share if you only stop and chat.   \nWe’ve hauled up folktales of strangers with milky eyes\, pockets full of rubbish\, hands that are not their own\, questions that they ask to everyone they meet… Give it up surviving and thriving\, for sharp wits\, courage and curiosity\, and singing your song in the dark.   \nGet this…  \nThe Leberou walks fast through the night. Legend says he must pass under seven bell towers in seven parishes before dawn breaks. He has walked so many streets\, so many nights\, with no bed of his own. If you are out as the dusk\, be warned! He may jump up on your back. But in return for the ride\, what stories he will tell you with his whiskery snout in your ear\, and his hairy legs wrapped around your waist.   \nForget fear\, get curious!   \nCome be bell ringers and fox choir. Get your ears full of stories. We’ll also be featuring a special guest from your manor\, because we are nosey and we want to know everyone and everything.   \nWe Are Fox
URL:https://backstagebristol.com/event/we-are-fox-tobacco-factory-theatres/
CATEGORIES:Tobacco Factory Theatres
ATTACH;FMTTYPE=image/png:https://backstagebristol.com/wp-content/uploads/2026/04/IMG_3647.png
END:VEVENT
BEGIN:VEVENT
DTSTART;VALUE=DATE:20260427
DTEND;VALUE=DATE:20260429
DTSTAMP:20260422T132100
CREATED:20260407T181835Z
LAST-MODIFIED:20260407T181835Z
UID:54475-1777248000-1777420799@backstagebristol.com
SUMMARY:Krapp’s Last Tape - Tobacco Factory Theatres
DESCRIPTION:Krapp’s Last Tape is a journey through an old man’s life\, filled with hilarious memories and hopes for the future\, coupled with the mourning of lost love and unfulfilled ambition.  This production\, directed by Academy Award nominee Stockard Channing and starring David Westhead\, tours globally throughout 2025 and 2026. Revel in Samuel Beckett’s classic play\, as audiences are invited into Krapp’s world of solitude\, memories\, dreams\, elation\, and despair.  This touring production has been brought to life in disused function rooms\, underground vaults\, former jails\, and dusty factories. We are transported to a land of joy\, sadness\, lost ambition\, love\, madness\, and hope. 
URL:https://backstagebristol.com/event/krapps-last-tape-tobacco-factory-theatres/
LOCATION:Tobacco Factory Theatres\, BS3 1TF
CATEGORIES:Tobacco Factory Theatres
ATTACH;FMTTYPE=image/jpeg:https://backstagebristol.com/wp-content/uploads/2026/04/IMG_3644.jpeg
END:VEVENT
BEGIN:VEVENT
DTSTART;VALUE=DATE:20260430
DTEND;VALUE=DATE:20260503
DTSTAMP:20260422T132100
CREATED:20260407T181029Z
LAST-MODIFIED:20260407T181029Z
UID:54472-1777507200-1777766399@backstagebristol.com
SUMMARY:Coulrophobia - Tobacco Factory Theatres
DESCRIPTION:TWO CLOWNS TRAPPED IN A CARDBOARD WORLD… \nTake your seat\, relax but don’t get too comfortable. Coulrophobia (fear of clowns) is 80 minutes of brilliant slapstick\, mime\, puppetry\, existential angst and big shoes.   \nDik and Adam are Clowns! They couldn’t fight their way out of a paper bag\, let alone a surreal cardboard world. Why are they there and what are they supposed to be doing? They know something sinister is afoot and they need to get out before it’s too late. Join them on a hysterical and sometimes terrifying quest for a more meaningful existence.  \nWith enough subversive humour to please the most hardened cynic\, Coulrophobia glides seamlessly from sinister to touching\, from ridiculous to outright hilarious. A high energy\, anarchic\, roller coaster of a clown / puppet show that has been a sell-out hit at festivals in Portugal\, Holland\, Norway\, Czech Republic\, Germany\, Spain\, Switzerland\, Sweden\, Belgium\, Romania\, Finland and the UK. 
URL:https://backstagebristol.com/event/coulrophobia-tobacco-factory-theatres/
LOCATION:Tobacco Factory Theatres\, BS3 1TF
CATEGORIES:Tobacco Factory Theatres
ATTACH;FMTTYPE=image/jpeg:https://backstagebristol.com/wp-content/uploads/2026/04/IMG_3641.jpeg
END:VEVENT
END:VCALENDAR