BEGIN:VCALENDAR
VERSION:2.0
PRODID:-//Backstage Bristol Theatre News - ECPv6.15.20//NONSGML v1.0//EN
CALSCALE:GREGORIAN
METHOD:PUBLISH
X-ORIGINAL-URL:https://backstagebristol.com
X-WR-CALDESC:Events for Backstage Bristol Theatre News
REFRESH-INTERVAL;VALUE=DURATION:PT1H
X-Robots-Tag:noindex
X-PUBLISHED-TTL:PT1H
BEGIN:VTIMEZONE
TZID:Europe/London
BEGIN:DAYLIGHT
TZOFFSETFROM:+0000
TZOFFSETTO:+0100
TZNAME:BST
DTSTART:20240331T010000
END:DAYLIGHT
BEGIN:STANDARD
TZOFFSETFROM:+0100
TZOFFSETTO:+0000
TZNAME:GMT
DTSTART:20241027T010000
END:STANDARD
BEGIN:DAYLIGHT
TZOFFSETFROM:+0000
TZOFFSETTO:+0100
TZNAME:BST
DTSTART:20250330T010000
END:DAYLIGHT
BEGIN:STANDARD
TZOFFSETFROM:+0100
TZOFFSETTO:+0000
TZNAME:GMT
DTSTART:20251026T010000
END:STANDARD
BEGIN:DAYLIGHT
TZOFFSETFROM:+0000
TZOFFSETTO:+0100
TZNAME:BST
DTSTART:20260329T010000
END:DAYLIGHT
BEGIN:STANDARD
TZOFFSETFROM:+0100
TZOFFSETTO:+0000
TZNAME:GMT
DTSTART:20261025T010000
END:STANDARD
BEGIN:DAYLIGHT
TZOFFSETFROM:+0000
TZOFFSETTO:+0100
TZNAME:BST
DTSTART:20270328T010000
END:DAYLIGHT
BEGIN:STANDARD
TZOFFSETFROM:+0100
TZOFFSETTO:+0000
TZNAME:GMT
DTSTART:20271031T010000
END:STANDARD
END:VTIMEZONE
BEGIN:VEVENT
DTSTART;VALUE=DATE:20260218
DTEND;VALUE=DATE:20260221
DTSTAMP:20260421T124225
CREATED:20260209T095441Z
LAST-MODIFIED:20260209T095441Z
UID:53646-1771372800-1771631999@backstagebristol.com
SUMMARY:Macbeth - Wickham Theatre
DESCRIPTION:‘Something Wicked this way comes…’ \nAfter hearing the prophecies of three Witches\, war hero Macbeth embarks on a savage killing spree to secure the throne of Scotland. \nShakespeare’s thrilling tragedy is presented by InterAct in an exciting psychological take on the classic. Plunged into Macbeth’s psyche through ambitious sound design and movement\, audiences can expect to witness the propulsive tragic fall of literature’s greatest ever couple.
URL:https://backstagebristol.com/event/macbeth-wickham-theatre/
LOCATION:Wickham Theatre\, Cantock's Close\, BS8 1UP
CATEGORIES:Wickham Theatre
ATTACH;FMTTYPE=image/png:https://backstagebristol.com/wp-content/uploads/2026/02/Macbeth-Wickham-Theatre.png
END:VEVENT
BEGIN:VEVENT
DTSTART;VALUE=DATE:20251213
DTEND;VALUE=DATE:20251214
DTSTAMP:20260421T124225
CREATED:20251204T092939Z
LAST-MODIFIED:20251204T092939Z
UID:52858-1765584000-1765670399@backstagebristol.com
SUMMARY:A Two Woman Hamlet - Wickham Theatre
DESCRIPTION:It’s Hamlet\, but not as you know it. \n\n\nTwo women (and a skull) take on Shakespeare’s well-known tragedy in just 60 minutes\, in a spectacularly fun and surprisingly moving theatrical event. \nMara Sherman\, who directed the original production in 2018\, describes her motivation as not just giving women an opportunity to play great roles such as Hamlet and Claudius\, but giving these characters the opportunity to be played by women. \nFollowing the critical success of past productions at the Capital Fringe (Washington\, DC\, 2018) and Edinburgh Fringe (2022)\, we developed a fresh take on this fun\, fast-paced\, and irreverent adaptation for a sold-out run at Colchester’s Lakeside Theatre in March 2025. \nWe’re thrilled to be bringing the show to the Wickham after touring to Camden Fringe and Colchester Fringe earlier this year! \nWe recommend that this show appropriate for ages 14+ \n 
URL:https://backstagebristol.com/event/a-two-woman-hamlet-wickham-theatre/
LOCATION:Wickham Theatre\, Cantock's Close\, BS8 1UP
CATEGORIES:Wickham Theatre
ATTACH;FMTTYPE=image/jpeg:https://backstagebristol.com/wp-content/uploads/2025/12/A-Two-Woman-Hamlet-Wickham-Theatre-Bristol-University.jpg
END:VEVENT
END:VCALENDAR